BEGIN:VCALENDAR
VERSION:2.0
PRODID:-//ChamberMaster//Event Calendar 2.0//EN
METHOD:PUBLISH
X-PUBLISHED-TTL:P3D
REFRESH-INTERVAL:P3D
CALSCALE:GREGORIAN
BEGIN:VEVENT
DTSTART:20200310T140000Z
DTEND:20200311T030000Z
X-MICROSOFT-CDO-ALLDAYEVENT:FALSE
SUMMARY:20/20 Vision: Tax Incentives Webinar
DESCRIPTION:The Department of Community Affairs announced in January 2020\, Douglas County Tax Incentive Zones: Less Developed Census Tracts are expiring.
X-ALT-DESC;FMTTYPE=text/html:The Department of Community Affairs announced in January 2020\, Douglas County Tax Incentive Zones: Less Developed Census Tracts are expiring.<br />\n<br />\n&nbsp\;
LOCATION:
UID:e.184.11311
SEQUENCE:3
DTSTAMP:20260426T002222Z
URL:https://business.douglascountygeorgia.com/events/details/20-20-vision-tax-incentives-webinar-11311
END:VEVENT

END:VCALENDAR
