BEGIN:VCALENDAR
VERSION:2.0
PRODID:-//ChamberMaster//Event Calendar 2.0//EN
METHOD:PUBLISH
X-PUBLISHED-TTL:P3D
REFRESH-INTERVAL:P3D
CALSCALE:GREGORIAN
BEGIN:VEVENT
DTSTART:20200519T180000Z
DTEND:20200519T190000Z
X-MICROSOFT-CDO-ALLDAYEVENT:FALSE
SUMMARY:2020 Business of Excellence Information Session
DESCRIPTION:Interested in applying to be a 2020 Business of Excellence? Join us for the Virtual Information Session to learn how to accurately complete the application!
X-ALT-DESC;FMTTYPE=text/html:<span style="font-family:arial\;"><span style="font-size:14px\;">Interested in applying to be a 2020 Business of Excellence? Join us for the Virtual Information Session to learn how to accurately complete the application!</span></span>
LOCATION:Zoom link is sent upon registration.
UID:e.184.11433
SEQUENCE:3
DTSTAMP:20260425T225835Z
URL:https://business.douglascountygeorgia.com/events/details/2020-business-of-excellence-information-session-11433
END:VEVENT

END:VCALENDAR
