BEGIN:VCALENDAR
VERSION:2.0
PRODID:-//ChamberMaster//Event Calendar 2.0//EN
METHOD:PUBLISH
X-PUBLISHED-TTL:P3D
REFRESH-INTERVAL:P3D
CALSCALE:GREGORIAN
BEGIN:VEVENT
DTSTART:20200730T210000Z
DTEND:20200730T230000Z
X-MICROSOFT-CDO-ALLDAYEVENT:FALSE
SUMMARY:6x6 Tiny Fundraiser Ice Cream Party
DESCRIPTION:The Douglas County Art Guild hosts the mini reception for the 6x6 Tiny Fundraiser on July 30 from 5-7 pm. Come view the artwork\, support the arts\, and enjoy an ice cream party! Each artwork $20 and supports your local Arts Council.
X-ALT-DESC;FMTTYPE=text/html:<span style="background-color:rgb(255\, 255\, 255)\; color:rgb(29\, 33\, 41)\; font-family:helvetica\,arial\,sans-serif\; font-size:14px">The Douglas County Art Guild hosts the mini reception for the 6x6 Tiny Fundraiser on July 30 from 5-7 pm. Come view the artwork\, support the arts\, and enjoy an ice cream party! Each artwork $20 and supports your local Arts Council.</span>
LOCATION:Cultural Arts Center 8652 Campbellton St. Douglasville
UID:e.184.11459
SEQUENCE:3
DTSTAMP:20260426T002136Z
URL:https://business.douglascountygeorgia.com/events/details/6x6-tiny-fundraiser-ice-cream-party-11459
END:VEVENT

END:VCALENDAR
