BEGIN:VCALENDAR
VERSION:2.0
PRODID:-//ChamberMaster//Event Calendar 2.0//EN
METHOD:PUBLISH
X-PUBLISHED-TTL:P3D
REFRESH-INTERVAL:P3D
CALSCALE:GREGORIAN
BEGIN:VEVENT
DTSTART:20200716T210000Z
DTEND:20200716T230000Z
X-MICROSOFT-CDO-ALLDAYEVENT:FALSE
SUMMARY:6x6 Tiny Fundraiser Opening Reception
DESCRIPTION:Douglas County Rotary Club hosts the 6x6 Tiny Fundraiser reception on July 16 from 5-7 pm. Come buy a painting on the same night of the opening reception for the Art Guild Swap exhibit. Each artwork $20 and supports your local Arts Council.
X-ALT-DESC;FMTTYPE=text/html:<span style="background-color:rgb(255\, 255\, 255)\; color:rgb(29\, 33\, 41)\; font-family:helvetica\,arial\,sans-serif\; font-size:14px">Douglas County Rotary Club hosts the 6x6 Tiny Fundraiser reception on July 16 from 5-7 pm. Come buy a painting on the same night of the opening reception for the Art Guild Swap exhibit. Each artwork $20 and supports your local Arts Council.</span>
LOCATION:Cultural Arts Center 8652 Campbellton St. Douglasville
UID:e.184.11458
SEQUENCE:3
DTSTAMP:20260426T001732Z
URL:https://business.douglascountygeorgia.com/events/details/6x6-tiny-fundraiser-opening-reception-11458
END:VEVENT

END:VCALENDAR
