BEGIN:VCALENDAR
VERSION:2.0
PRODID:-//ChamberMaster//Event Calendar 2.0//EN
METHOD:PUBLISH
X-PUBLISHED-TTL:P3D
REFRESH-INTERVAL:P3D
CALSCALE:GREGORIAN
BEGIN:VEVENT
DTSTART:20200728T100000Z
DTEND:20200729T000000Z
X-MICROSOFT-CDO-ALLDAYEVENT:FALSE
SUMMARY:American Business Women's Association's Douglas County Charter Chapter's Annual Awards Banquet and Officer Installation
DESCRIPTION:You are cordially invited to the American Business Women's Association (ABWA) Douglas County Charter Chapter's (DCCC) Annual Awards Banquet &\n\nOfficer Installation.\n\n\n\nThe Annual Awards Banquet event gives ABWA DCCC an opportunity to recognize its members and a boss in our community. The awards are Top Ten Woman of the Year\, Chapter Woman of the Year\, Business Associate of the Year\, and Boss of the Year.  \nOur Chapter will install the incoming 2020-2021 Executive Board as follows: Michelle English\, President-Elect\; Nancy Demirtas\, Vice President-Elect\; Lisa Thomas\, Treasurer-Elect\; and Alicia Bonner\, Secretary-Elect.\n\nThis year's speaker will be Monique Russell. who is a Communications Expert\, Inspirational Teacher\, and Speaker\, and the CEO of Clear Communication Solutions\, LLC. Originally from the beautiful islands of The Bahamas and Nigeria\, Monique is passionate about teaching women leaders and teams how to turn likes into loves in their business and life. Monique believes real love in business is like real love in any relationship. In a world of constant change and ongoing noise\, it's becoming harder and more difficult to stand out and make authentic connections that build trust\, loyalty\, and brand champions. You will learn the key ingredients you need to turn likes to loves while remaining genuine\, making money\, and gaining digital power. We will provide updates as they arise regarding this event as well.
X-ALT-DESC;FMTTYPE=text/html:You are cordially invited to the American Business Women&#39\;s Association (ABWA) Douglas County&nbsp\;Charter Chapter&#39\;s (DCCC) Annual Awards Banquet &amp\;<br />\nOfficer Installation.<br />\n<br />\nThe Annual Awards Banquet event gives ABWA DCCC an opportunity to recognize its members and a boss in our community. The awards are Top Ten Woman of the Year\, Chapter Woman of the Year\, Business Associate of the Year\, and Boss of the Year.&nbsp\;&nbsp\;\n<p>Our Chapter will install the incoming 2020-2021 Executive Board as follows:&nbsp\;Michelle English\, President-Elect\; Nancy Demirtas\, Vice President-Elect\; Lisa Thomas\, Treasurer-Elect\; and Alicia Bonner\, Secretary-Elect.</p>\n\n<p>This year&#39\;s speaker will be Monique Russell.&nbsp\;who is a Communications Expert\, Inspirational Teacher\, and Speaker\, and the CEO of Clear Communication Solutions\, LLC. Originally from the beautiful islands of The&nbsp\;Bahamas&nbsp\;and Nigeria\, Monique is passionate about teaching women leaders and teams how to turn&nbsp\;likes into loves in their business and life. Monique believes&nbsp\;real love in business is like real love in any relationship. In a world of constant change and ongoing noise\, it&#39\;s becoming harder and more difficult to stand out and make authentic connections that build trust\, loyalty\, and brand champions. You will learn the key ingredients you need to turn likes to loves while remaining genuine\, making money\, and gaining digital power.&nbsp\;We will provide updates as they arise regarding this event as well.&nbsp\;</p>\n
LOCATION:Douglasville Conference Center 6700 Church Street Douglasville\, GA 30134
UID:e.184.11484
SEQUENCE:3
DTSTAMP:20260426T003521Z
URL:https://business.douglascountygeorgia.com/events/details/american-business-women-s-association-s-douglas-county-charter-chapter-s-annual-awards-banquet-and-officer-installation-11484
END:VEVENT

END:VCALENDAR
