BEGIN:VCALENDAR
VERSION:2.0
PRODID:-//ChamberMaster//Event Calendar 2.0//EN
METHOD:PUBLISH
X-PUBLISHED-TTL:P3D
REFRESH-INTERVAL:P3D
CALSCALE:GREGORIAN
BEGIN:VEVENT
DTSTART:20200318T140000Z
DTEND:20200318T190000Z
X-MICROSOFT-CDO-ALLDAYEVENT:FALSE
SUMMARY:American Red Cross Emergency Need Community Blood Drive
DESCRIPTION:American Red Cross Community Blood Drive - Emergency Need \n\n\n\nThe Red Cross will be open for a community blood drive beginning Wednesday\, March 18th from 10:00 - 3:00 and continuing daily (no weekends) through March 27th.
X-ALT-DESC;FMTTYPE=text/html:American Red Cross Community Blood Drive - Emergency Need&nbsp\;<br />\n<br />\nThe Red Cross will be open for a community blood drive beginning Wednesday\, March 18th from 10:00 - 3:00 and continuing daily (no weekends) through March 27th.&nbsp\;<br />\n<br />\n&nbsp\;
LOCATION:American Red Cross Region Headquarters 9851 Commerce Way Douglasville\, GA 30135 Rooms 213/214
UID:e.184.11340
SEQUENCE:3
DTSTAMP:20260426T002344Z
URL:https://business.douglascountygeorgia.com/events/details/american-red-cross-emergency-need-community-blood-drive-11340
END:VEVENT

END:VCALENDAR
