BEGIN:VCALENDAR
VERSION:2.0
PRODID:-//ChamberMaster//Event Calendar 2.0//EN
METHOD:PUBLISH
X-PUBLISHED-TTL:P3D
REFRESH-INTERVAL:P3D
CALSCALE:GREGORIAN
BEGIN:VEVENT
DTSTART:20200729T120000Z
DTEND:20200729T133000Z
X-MICROSOFT-CDO-ALLDAYEVENT:FALSE
SUMMARY:AMP'D Politics Power Breakfast
DESCRIPTION:The Advancing Modern Professionals in Douglas (AMP'D) Politics Power Breakfast is open to the public and local and state elected officials. This event gives young professionals a chance to meet and network with elected officials from the DC Board of Commissioners\, City Council\, and School Board. You must register to attend.
X-ALT-DESC;FMTTYPE=text/html:The Advancing Modern Professionals in Douglas (AMP&#39\;D) Politics Power Breakfast is open to the public and local and state elected officials. This event gives young professionals a chance to meet and network with elected officials from the DC Board of Commissioners\, City Council\, and School Board. You must register to attend.&nbsp\;
LOCATION:Zoom link is sent upon registration.
UID:e.184.11054
SEQUENCE:3
DTSTAMP:20260426T015608Z
URL:https://business.douglascountygeorgia.com/events/details/amp-d-politics-power-breakfast-11054
END:VEVENT

END:VCALENDAR
