BEGIN:VCALENDAR
VERSION:2.0
PRODID:-//ChamberMaster//Event Calendar 2.0//EN
METHOD:PUBLISH
X-PUBLISHED-TTL:P3D
REFRESH-INTERVAL:P3D
CALSCALE:GREGORIAN
BEGIN:VEVENT
DTSTART:20200304T220000Z
DTEND:20200305T003000Z
X-MICROSOFT-CDO-ALLDAYEVENT:FALSE
SUMMARY:AMP'D Speed Networking Event
DESCRIPTION:Enjoy quick\, focused opportunities to meet those who can potentially enhance your career and business. If you are looking to accelerate your business contacts or just simply connect and communicate with fellow young professionals\, register today!
X-ALT-DESC;FMTTYPE=text/html:Enjoy quick\, focused opportunities to meet those who can potentially enhance your career and business. If you are looking to accelerate your business contacts or just simply connect and communicate with fellow young professionals\, register today!
LOCATION:Carrabba's Italian Grill 2700 Chapel Hill Road Douglasville\, GA 30135
UID:e.184.11325
SEQUENCE:3
DTSTAMP:20260426T002935Z
URL:https://business.douglascountygeorgia.com/events/details/amp-d-speed-networking-event-11325
END:VEVENT

END:VCALENDAR
