BEGIN:VCALENDAR
VERSION:2.0
PRODID:-//ChamberMaster//Event Calendar 2.0//EN
METHOD:PUBLISH
X-PUBLISHED-TTL:P3D
REFRESH-INTERVAL:P3D
CALSCALE:GREGORIAN
BEGIN:VEVENT
DTSTART:20200730T210000Z
DTEND:20200730T220000Z
X-MICROSOFT-CDO-ALLDAYEVENT:FALSE
SUMMARY:Assured Comfort Business After Hours Sponsored by DC Sentinel & Williamson Bros Bar-B-Q
DESCRIPTION:The Business After Hours consistently proves to be the ultimate way to wrap up your busy work day. The Business After Hours are held at various member locations. Appetizers and drinks await Chamber members as they gather for an opportunity to socialize and network with fellow business and community leaders. \n\n\n\nMust register to attend!
X-ALT-DESC;FMTTYPE=text/html:<span style="font-size:14px\;"><span style="font-family:arial\;">The Business After Hours consistently proves to be the ultimate way to wrap up your busy work day. The </span></span><span style="font-family: arial\; font-size: 14px\;">Business</span><span style="font-size:14px\;"><span style="font-family:arial\;">&nbsp\;After Hours are held at various member locations. Appetizers and drinks await Chamber members as they gather for an opportunity to socialize and network with fellow business and community leaders.&nbsp\;<br />\n<br />\nMust register to attend!</span></span>
LOCATION:Williamson Bros Bar-B-Q 7040 Concourse Pkwy\, Douglasville
UID:e.184.10857
SEQUENCE:3
DTSTAMP:20260426T002609Z
URL:https://business.douglascountygeorgia.com/events/details/assured-comfort-business-after-hours-sponsored-by-dc-sentinel-williamson-bros-bar-b-q-10857
END:VEVENT

END:VCALENDAR
