BEGIN:VCALENDAR
VERSION:2.0
PRODID:-//ChamberMaster//Event Calendar 2.0//EN
METHOD:PUBLISH
X-PUBLISHED-TTL:P3D
REFRESH-INTERVAL:P3D
CALSCALE:GREGORIAN
BEGIN:VEVENT
DTSTART:20251016T200000Z
DTEND:20251016T220000Z
X-MICROSOFT-CDO-ALLDAYEVENT:FALSE
SUMMARY:Business After Hours: Big Thank You Bash
DESCRIPTION:Join us for our Big Thank You Bash on October 16th as we celebrate the heart of our Chamber our incredible members and investors! Come enjoy delicious lite bites\, cool libations\, live music\, and plenty of opportunities to connect and network with fellow Chamber partners.\n\n\n\nThis event is open to all Chamber members\, investors\, and their employees. We're deeply grateful for your support and can't wait to celebrate with you!
X-ALT-DESC;FMTTYPE=text/html:<p style="margin-top: 0px\; margin-bottom: 0px\; font-family: Aptos\, sans-serif\; font-size: 11pt\;"><span data-olk-copy-source="CalendarCompose" style="font-family: &quot\;Avenir Next LT Pro&quot\;\, sans-serif\; color: rgb(0\, 0\, 0)\;">Join us for our Big Thank You Bash on October 16th as we celebrate the heart of our Chamber&mdash\;our incredible members and investors! Come enjoy delicious lite bites\, cool libations\, live music\, and plenty of opportunities to connect and network with fellow Chamber partners.<br />\n<br />\nThis event is open to all Chamber members\, investors\, and their employees. We&rsquo\;re deeply grateful for your support and can&rsquo\;t wait to celebrate with you!</span></p>\n
LOCATION:Douglas County Chamber 6658 Church Street Douglasville\, Ga 30134
UID:e.184.16313
SEQUENCE:3
DTSTAMP:20260422T201907Z
URL:https://business.douglascountygeorgia.com/events/details/business-after-hours-big-thank-you-bash-16313
END:VEVENT

END:VCALENDAR
