BEGIN:VCALENDAR
VERSION:2.0
PRODID:-//ChamberMaster//Event Calendar 2.0//EN
METHOD:PUBLISH
X-PUBLISHED-TTL:P3D
REFRESH-INTERVAL:P3D
CALSCALE:GREGORIAN
BEGIN:VEVENT
DTSTART:20251204T220000Z
DTEND:20251204T230000Z
X-MICROSOFT-CDO-ALLDAYEVENT:FALSE
SUMMARY:Business After Hours: Holiday Celebration & Wellstar Community Tree Lightning
DESCRIPTION:Join us for the final Business After Hours of the year   a festive evening of networking and celebration at Wellstar Douglas Medical Center!\n\nWind down after a busy day\, enjoy light refreshments\, and connect with local professionals as we celebrate the season together. This special holiday edition will feature the Wellstar Tree Lighting Ceremony\, photos with Santa and Mrs. Claus\, children's holiday crafts\, and hot cocoa with fresh-baked cookies\, making it the perfect event to bring your family and share in the holiday spirit.\n\n \n\nDon't miss this opportunity to wrap up the year with great company\, good conversations\, and holiday spirit!
X-ALT-DESC;FMTTYPE=text/html:<p style="box-sizing: inherit\; margin: 0px 0px 8px\; padding: 0px\; border: 0px\; font-size: 15px\; vertical-align: baseline\; color: rgb(50\, 51\, 56)\; font-family: Figtree\, Roboto\, &quot\;Noto Sans Hebrew&quot\;\, &quot\;Noto Kufi Arabic&quot\;\, &quot\;Noto Sans JP&quot\;\, sans-serif\; outline: none !important\;">Join us for the final Business After Hours of the year &mdash\; a festive evening of networking and celebration at&nbsp\;<strong style="box-sizing: inherit\; font-weight: bold\; margin: 0px\; padding: 0px\; border: 0px\; vertical-align: baseline\; outline: none !important\;">Wellstar Douglas Medical Center</strong>!</p>\n\n<p style="box-sizing: inherit\; margin: 0px 0px 8px\; padding: 0px\; border: 0px\; font-size: 15px\; vertical-align: baseline\; color: rgb(50\, 51\, 56)\; font-family: Figtree\, Roboto\, &quot\;Noto Sans Hebrew&quot\;\, &quot\;Noto Kufi Arabic&quot\;\, &quot\;Noto Sans JP&quot\;\, sans-serif\; outline: none !important\;">Wind down after a busy day\, enjoy light refreshments\, and connect with local professionals as we celebrate the season together. This special holiday edition will feature the <strong>Wellstar Tree Lighting Ceremony\, photos with Santa and Mrs. Claus\, children&rsquo\;s holiday crafts\, and hot cocoa with fresh-baked cookies</strong>\, making it the perfect event to bring your family and share in the holiday spirit.</p>\n\n<p style="box-sizing: inherit\; margin: 0px 0px 8px\; padding: 0px\; border: 0px\; font-size: 15px\; vertical-align: baseline\; color: rgb(50\, 51\, 56)\; font-family: Figtree\, Roboto\, &quot\;Noto Sans Hebrew&quot\;\, &quot\;Noto Kufi Arabic&quot\;\, &quot\;Noto Sans JP&quot\;\, sans-serif\; outline: none !important\;">&nbsp\;</p>\n\n<p style="box-sizing: inherit\; margin: 0px 0px 8px\; padding: 0px\; border: 0px\; font-size: 15px\; vertical-align: baseline\; color: rgb(50\, 51\, 56)\; font-family: Figtree\, Roboto\, &quot\;Noto Sans Hebrew&quot\;\, &quot\;Noto Kufi Arabic&quot\;\, &quot\;Noto Sans JP&quot\;\, sans-serif\; outline: none !important\;">Don&rsquo\;t miss this opportunity to wrap up the year with great company\, good conversations\, and holiday spirit!</p>\n
LOCATION:Wellstar Douglas Medical Center
UID:e.184.16335
SEQUENCE:3
DTSTAMP:20260422T171726Z
URL:https://business.douglascountygeorgia.com/events/details/business-after-hours-holiday-celebration-wellstar-community-tree-lightning-16335
END:VEVENT

END:VCALENDAR
