BEGIN:VCALENDAR
VERSION:2.0
PRODID:-//ChamberMaster//Event Calendar 2.0//EN
METHOD:PUBLISH
X-PUBLISHED-TTL:P3D
REFRESH-INTERVAL:P3D
CALSCALE:GREGORIAN
BEGIN:VEVENT
DTSTART:20200305T130000Z
DTEND:20200305T140000Z
X-MICROSOFT-CDO-ALLDAYEVENT:FALSE
SUMMARY:Business4Breakfast Sponsored by Jones Wynn Funeral Home
DESCRIPTION:The Business4Breakfasts are held at various member locations throughout Douglas County. The Business4Breakfast is a great way to jump-start your day\, as you have an opportunity to network with an average of 100 business and community leaders\, while enjoying coffee and breakfast.
X-ALT-DESC;FMTTYPE=text/html:<span style="font-size:14px\;"><span style="font-family:arial\;">The Business4Breakfasts are held at various member locations throughout Douglas County. The Business4Breakfast is a great way to jump-start your day\, as you have an opportunity to network with an average of 100 business and community leaders\, while enjoying coffee and breakfast.&nbsp\;</span></span>
LOCATION:Jones-Wynn Funeral Home Douglas Chapel 2189 Midway Road Douglasville\, GA 30135
UID:e.184.10555
SEQUENCE:3
DTSTAMP:20260426T002401Z
URL:https://business.douglascountygeorgia.com/events/details/business4breakfast-sponsored-by-jones-wynn-funeral-home-10555
END:VEVENT

END:VCALENDAR
