BEGIN:VCALENDAR
VERSION:2.0
PRODID:-//ChamberMaster//Event Calendar 2.0//EN
METHOD:PUBLISH
X-PUBLISHED-TTL:P3D
REFRESH-INTERVAL:P3D
CALSCALE:GREGORIAN
BEGIN:VEVENT
DTSTART:20200320T120000Z
DTEND:20200320T130000Z
X-MICROSOFT-CDO-ALLDAYEVENT:FALSE
SUMMARY:CANCELED: BIG Success Leads Group
DESCRIPTION:Get connected with Chamber Connections\, our unique networking leads groups! The Chamber Connections groups meet the first and third Fridays of each month. All Chamber members are invited to join Chamber Connections\, which focuses on members connecting with each other for leads generation and business enhancement. Only one business per industry allowed in each of the groups.
X-ALT-DESC;FMTTYPE=text/html:<span style="font-size:14px\;"><span style="font-family:arial\;">Get connected with Chamber Connections\, our unique networking leads groups! The Chamber Connections groups meet the first and third Fridays of each month. All Chamber members are invited to join Chamber Connections\, which focuses on members connecting with each other for leads generation and business enhancement. Only one business per industry allowed in each of the groups.&nbsp\;</span></span>
LOCATION:West Georgia Technical College 4600 Timber Ridge Drive Douglasville\, GA 30135
UID:e.184.10831
SEQUENCE:3
DTSTAMP:20260426T015736Z
URL:https://business.douglascountygeorgia.com/events/details/canceled-big-success-leads-group-10831
END:VEVENT

END:VCALENDAR
