BEGIN:VCALENDAR
VERSION:2.0
PRODID:-//ChamberMaster//Event Calendar 2.0//EN
METHOD:PUBLISH
X-PUBLISHED-TTL:P3D
REFRESH-INTERVAL:P3D
CALSCALE:GREGORIAN
BEGIN:VEVENT
DTSTART:20200326T210000Z
DTEND:20200326T220000Z
X-MICROSOFT-CDO-ALLDAYEVENT:FALSE
SUMMARY:CANCELED: Business After Hours Sponsored by City of Douglasville
DESCRIPTION:The Business After Hours consistently proves to be the ultimate way to wrap up your busy work day. The Business After Hours are held at various member locations. Appetizers and drinks await Chamber members as they gather for an opportunity to socialize and network with fellow business and community leaders.
X-ALT-DESC;FMTTYPE=text/html:<span style="font-size:14px\;"><span style="font-family:arial\;">The Business After Hours consistently proves to be the ultimate way to wrap up your busy work day. The </span></span><span style="font-family: arial\; font-size: 14px\;">Business</span><span style="font-size:14px\;"><span style="font-family:arial\;">&nbsp\;After Hours are held at various member locations. Appetizers and drinks await Chamber members as they gather for an opportunity to socialize and network with fellow business and community leaders.&nbsp\;</span></span>
LOCATION:Douglasville Conference Center 6700 Church Street Douglasville\, GA 30134
UID:e.184.10853
SEQUENCE:3
DTSTAMP:20260426T003608Z
URL:https://business.douglascountygeorgia.com/events/details/canceled-business-after-hours-sponsored-by-city-of-douglasville-10853
END:VEVENT

END:VCALENDAR
