BEGIN:VCALENDAR
VERSION:2.0
PRODID:-//ChamberMaster//Event Calendar 2.0//EN
METHOD:PUBLISH
X-PUBLISHED-TTL:P3D
REFRESH-INTERVAL:P3D
CALSCALE:GREGORIAN
BEGIN:VEVENT
DTSTART:20200402T120000Z
DTEND:20200402T130000Z
X-MICROSOFT-CDO-ALLDAYEVENT:FALSE
SUMMARY:CANCELED: Business4Breakfast Sponsored by Douglas County School System
DESCRIPTION:This event has been postponed until further notice.\n\n\n\nThe Business4Breakfasts are held at various member locations throughout Douglas County. The Business4Breakfast is a great way to jump-start your day\, as you have an opportunity to network with an average of 100 business and community leaders\, while enjoying coffee and breakfast.
X-ALT-DESC;FMTTYPE=text/html:<strong><span style="font-size:14px\;"><span style="color:#FF0000\;">This event has been postponed until further notice.</span></span></strong><br />\n<br />\n<span style="font-size:14px\;"><span style="font-family:arial\;">The Business4Breakfasts are held at various member locations throughout Douglas County. The Business4Breakfast is a great way to jump-start your day\, as you have an opportunity to network with an average of 100 business and community leaders\, while enjoying coffee and breakfast.&nbsp\;</span></span>
LOCATION:Douglas County School System 9030 Highway 5 Douglasville\, GA 30134
UID:e.184.10556
SEQUENCE:3
DTSTAMP:20260425T225826Z
URL:https://business.douglascountygeorgia.com/events/details/canceled-business4breakfast-sponsored-by-douglas-county-school-system-10556
END:VEVENT

END:VCALENDAR
