BEGIN:VCALENDAR
VERSION:2.0
PRODID:-//ChamberMaster//Event Calendar 2.0//EN
METHOD:PUBLISH
X-PUBLISHED-TTL:P3D
REFRESH-INTERVAL:P3D
CALSCALE:GREGORIAN
BEGIN:VEVENT
DTSTART:20200415T160000Z
DTEND:20200415T170000Z
X-MICROSOFT-CDO-ALLDAYEVENT:FALSE
SUMMARY:CANCELED: GreyStone Community Impact Luncheon Sponsored by Council for Quality Growth
DESCRIPTION:The monthly Luncheons are held at the Douglasville Conference Center. On average\, over 150 community and business leaders attend this monthly event\, which features a guest speaker and catered lunch.
X-ALT-DESC;FMTTYPE=text/html:<span style="font-size:14px\;"><span style="font-family:arial\;">The monthly Luncheons are held at the Douglasville Conference Center. On average\, over 150 community and business leaders attend this monthly event\, which features a guest speaker and catered lunch. </span></span>
LOCATION:Douglasville Conference Center 6700 Church Street Douglasville\, GA 30134
UID:e.184.10568
SEQUENCE:3
DTSTAMP:20260425T225835Z
URL:https://business.douglascountygeorgia.com/events/details/canceled-greystone-community-impact-luncheon-sponsored-by-council-for-quality-growth-10568
END:VEVENT

END:VCALENDAR
