BEGIN:VCALENDAR
VERSION:2.0
PRODID:-//ChamberMaster//Event Calendar 2.0//EN
METHOD:PUBLISH
X-PUBLISHED-TTL:P3D
REFRESH-INTERVAL:P3D
CALSCALE:GREGORIAN
BEGIN:VEVENT
DTSTART:20200318T160000Z
DTEND:20200318T170000Z
X-MICROSOFT-CDO-ALLDAYEVENT:FALSE
SUMMARY:CANCELED: GreyStone Leadership Luncheon Sponsored by Georgia Highlands College
DESCRIPTION:This event has been postponed until further notice.\n\n\n\nThe monthly Luncheons are held at the Douglasville Conference Center. On average\, over 150 community and business leaders attend this monthly event\, which features a guest speaker and catered lunch.
X-ALT-DESC;FMTTYPE=text/html:<span style="color:#FF0000\;"><span style="font-size:14px\;"><strong>This event has been postponed until further notice.</strong></span></span><br />\n<br />\n<span style="font-size:14px\;"><span style="font-family:arial\;">The monthly Luncheons are held at the Douglasville Conference Center. On average\, over 150 community and business leaders attend this monthly event\, which features a guest speaker and catered lunch. </span></span>
LOCATION:Douglasville Conference Center 6700 Church Street Douglasville\, GA 30134
UID:e.184.10567
SEQUENCE:3
DTSTAMP:20260426T002504Z
URL:https://business.douglascountygeorgia.com/events/details/canceled-greystone-leadership-luncheon-sponsored-by-georgia-highlands-college-10567
END:VEVENT

END:VCALENDAR
