BEGIN:VCALENDAR
VERSION:2.0
PRODID:-//ChamberMaster//Event Calendar 2.0//EN
METHOD:PUBLISH
X-PUBLISHED-TTL:P3D
REFRESH-INTERVAL:P3D
CALSCALE:GREGORIAN
BEGIN:VEVENT
DTSTART:20200325T113000Z
DTEND:20200325T133000Z
X-MICROSOFT-CDO-ALLDAYEVENT:FALSE
SUMMARY:CANCELED - Next Level Networking
DESCRIPTION:C A N C E L  E D !!!!!\n\nYou're invited to step up your networking game at our Next Level Networking program! Share about yourself and your business in several different formats all while enjoying a delicious\, complimentary breakfast. Think networking and lead sharing on steroids!  More information is available on the Chamber website or call Sandy for additional details.
X-ALT-DESC;FMTTYPE=text/html:<span style="background:white\;"><span style="color:#333333\;"><span style="font-family:arial\,sans-serif\;"><span style="font-size:10.5pt\;"><strong>C A N C E L&nbsp\; E D !!!!!</strong><br />\nYou&rsquo\;re invited to step up your networking game at our Next Level Networking program! Share about yourself and your business in several different formats all while enjoying a delicious\, complimentary breakfast. Think networking and lead sharing on steroids!&nbsp\;&nbsp\;More information is available on the Chamber website or call Sandy for additional details.</span></span></span></span><br />\n&nbsp\;
LOCATION:West Georgia Technical College Douglasville Campus - Community Room 4600 Timber Ridge Dr Douglasville
UID:e.184.10864
SEQUENCE:3
DTSTAMP:20260426T001528Z
URL:https://business.douglascountygeorgia.com/events/details/canceled-next-level-networking-10864
END:VEVENT

END:VCALENDAR
