BEGIN:VCALENDAR
VERSION:2.0
PRODID:-//ChamberMaster//Event Calendar 2.0//EN
METHOD:PUBLISH
X-PUBLISHED-TTL:P3D
REFRESH-INTERVAL:P3D
CALSCALE:GREGORIAN
BEGIN:VEVENT
DTSTART:20200325T153000Z
DTEND:20200325T160000Z
X-MICROSOFT-CDO-ALLDAYEVENT:FALSE
SUMMARY:CANCELED: Ribbon Cutting for Plaza Home Care
DESCRIPTION:Ribbon Cutting and ground breaking ceremonies are a free service that we provide to Chamber Members only. These events offer new business the chance to invite members\, the Board of Directors\, Diplomats\, and City and County officials to their location as well as speak about their business.
X-ALT-DESC;FMTTYPE=text/html:<div class="entry-content">\n<p>Ribbon Cutting and&nbsp\;ground breaking ceremonies are a free service that we provide to Chamber Members only. These events offer new business the chance to invite members\, the Board of Directors\, Diplomats\, and City and County officials to their location as well as speak about their business.<br />\n&nbsp\;</p>\n</div>\n
LOCATION:220 W. Wilson St. Villa Rica\, GA 30180
UID:e.184.11326
SEQUENCE:3
DTSTAMP:20260426T020239Z
URL:https://business.douglascountygeorgia.com/events/details/canceled-ribbon-cutting-for-plaza-home-care-11326
END:VEVENT

END:VCALENDAR
