BEGIN:VCALENDAR
VERSION:2.0
PRODID:-//ChamberMaster//Event Calendar 2.0//EN
METHOD:PUBLISH
X-PUBLISHED-TTL:P3D
REFRESH-INTERVAL:P3D
CALSCALE:GREGORIAN
BEGIN:VEVENT
DTSTART:20200325T120000Z
DTEND:20200325T190000Z
X-MICROSOFT-CDO-ALLDAYEVENT:FALSE
SUMMARY:CANCELED: Teacher 4 A Day
DESCRIPTION:The Douglas County School System is pleased to announce its annual program in partnership with the Douglas County Chamber\, "Teacher 4 A Day." \n\n\n\nThis program will allow members of the community to visit one of the 36 schools in Douglas County and shadow a teacher for a half school day.  School teachers from each grade will be paired with a local member of the community who will experience a typical day in the teacher's shoes. Participants will not be placed in their children's classrooms.    \n\n \n\nGuest teachers will be exposed to the many exciting programs offered in our schools as well as gaining first-hand insight into the challenges that schools face on a daily basis.
X-ALT-DESC;FMTTYPE=text/html:<span style="font-size:14px\;"><span style="font-family:arial\;">The Douglas County School System is pleased to announce its annual program in partnership with the Douglas County Chamber\, &ldquo\;Teacher 4 A Day.&rdquo\;&nbsp\;<br />\n<br />\n<span style="color:black\;">This program will allow members of the community to visit one of the</span> 36 schools<span style="color:black\;">&nbsp\;in Douglas County and shadow a teacher for a half school day.&nbsp\; School teachers from each grade will be paired with a local member of the community who will experience a typical day in the teacher&rsquo\;s shoes. Participants will not be placed in their children&rsquo\;s classrooms.&nbsp\;&nbsp\;&nbsp\; </span><br />\n&nbsp\;<br />\n<span style="color:black\;">Guest teachers will be exposed to the many exciting programs offered in our schools as well as gaining first-hand insight into the challenges that schools face on a daily basis.&nbsp\;</span></span></span>
LOCATION:Douglas County Schools and Brighten Academy
UID:e.184.11033
SEQUENCE:3
DTSTAMP:20260426T001825Z
URL:https://business.douglascountygeorgia.com/events/details/canceled-teacher-4-a-day-11033
END:VEVENT

END:VCALENDAR
