BEGIN:VCALENDAR
VERSION:2.0
PRODID:-//ChamberMaster//Event Calendar 2.0//EN
METHOD:PUBLISH
X-PUBLISHED-TTL:P3D
REFRESH-INTERVAL:P3D
CALSCALE:GREGORIAN
BEGIN:VEVENT
DTSTART:20250529T210000Z
DTEND:20250530T010000Z
X-MICROSOFT-CDO-ALLDAYEVENT:FALSE
SUMMARY:Celebrate You! A Women's Event
DESCRIPTION:Celebrate YOU! A Women's Event\n\nThe Douglas County Chamber is pleased to announce the 2025 CelebrateYOU! Women's Event: Presented by WellStar Douglas Hospital.\n\n\n\nJoin us at our highly anticipated event where we focus on helping women to THRIVE in a space of well-being through self-advocacy\, self-care\, and self-awareness.\n\n\n\nThe event will be held at the Douglasville Conference Center on Thursday\, May 29th at 5:00p.m.\n\n\n\nThis year's event will offer an exclusive meet and greet with access to our keynote speaker\, business showcase filled with opportunities to support local businesses\, our annual CelebrateHER Women's Awards\, food\, fun and much more!
X-ALT-DESC;FMTTYPE=text/html:<p><span style="font-family:tahoma\;"><strong><span style="box-sizing: border-box\; color: rgb(0\, 34\, 64)\; font-size: 20px\;"><span style="box-sizing: border-box\; font-weight: bolder\;">Celebrate YOU! A Women&#39\;s Event</span></span></strong></span></p>\n\n<p><span style="font-family:tahoma\;"><span style="font-size:14.0pt\;">The Douglas County Chamber is pleased to announce the&nbsp\;<strong>2025 CelebrateYOU! Women&#39\;s Event: Presented by WellStar Douglas Hospital.</strong></span><br />\n<br />\n<span style="font-size:14.0pt\;">Join us at our highly anticipated event where we focus on helping women to THRIVE in a space of well-being through self-advocacy\, self-care\, and self-awareness.</span><br />\n<br />\n<span style="font-size:14.0pt\;">The event will be held at the&nbsp\;<strong>Douglasville Conference Center</strong>&nbsp\;on&nbsp\;<strong>Thursday\, May 29th</strong>&nbsp\;at <strong>5:00p.m</strong>.</span><br />\n<br />\n<span style="font-size:14.0pt\;">This year&#39\;s event will offer an&nbsp\;<strong>exclusive meet and greet</strong>&nbsp\;with access to our keynote speaker\,<strong>&nbsp\;business showcase&nbsp\;</strong>filled with opportunities to support local businesses\, our&nbsp\;<strong>annual CelebrateHER Women&#39\;s Awards</strong>\, food\, fun and much more!</span></span><br />\n<br />\n<span style="font-family:tahoma\;"><span style="font-size:18px\;">&nbsp\;</span></span><br />\n<span style="font-size:18px\;">&nbsp\;<br />\n&nbsp\;<br />\n&nbsp\;</span></p>\n\n<div class="WACEditing EditMode EditingSurfaceBody FireFox WACViewPanel_DisableLegacyKeyCodeAndCharCode usehover" contenteditable="false" id="WACViewPanel_ClipboardElement" spellcheck="false" style="overflow: hidden\; visibility: visible\; direction: ltr\;" tabindex="0">\n<div class="OutlineElement Ltr SCXW253646634 BCX2" style="direction: ltr\;">\n<p class="Paragraph SCXW253646634 BCX2" paraeid="{238a4a38-4112-4627-af7e-82e764f35f90}{143}" paraid="657374699" style="vertical-align: baseline\; background-color: transparent\; color: rgb(0\, 0\, 0)\; margin: 0px\; padding-left: 0px\; padding-right: 0px\;">&nbsp\;</p>\n</div>\n\n<div class="SCXW253646634 BCX2">\n<div class="OutlineElement Ltr SCXW253646634 BCX2" style="direction: ltr\;">\n<p class="Paragraph SCXW253646634 BCX2" paraeid="{a440f8d6-7375-4617-ab5e-6c45c814b127}{174}" paraid="713036859" style="vertical-align: baseline\; background-color: transparent\; color: windowtext\; margin: 0px\; padding-left: 0px\; padding-right: 0px\;"><span avenir="" class="EOP SCXW253646634 BCX2" data-ccp-props="{" div="" lt="" next="" p="" paraeid="{a440f8d6-7375-4617-ab5e-6c45c814b127}{178}" paraid="342281733" span="" style="font-size: 11pt\; line-height: 19.55px\; font-family: ">&nbsp\;</span></p>\n</div>\n</div>\n</div>\n
LOCATION:Douglasville Conference Center
UID:e.184.16263
SEQUENCE:3
DTSTAMP:20260424T160604Z
URL:https://business.douglascountygeorgia.com/events/details/celebrate-you-a-women-s-event-16263
END:VEVENT

END:VCALENDAR
