BEGIN:VCALENDAR
VERSION:2.0
PRODID:-//ChamberMaster//Event Calendar 2.0//EN
METHOD:PUBLISH
X-PUBLISHED-TTL:P3D
REFRESH-INTERVAL:P3D
CALSCALE:GREGORIAN
BEGIN:VEVENT
DTSTART:20250717T210000Z
DTEND:20250717T230000Z
X-MICROSOFT-CDO-ALLDAYEVENT:FALSE
SUMMARY:Cheers to Connections: Ambassador Mixer
DESCRIPTION:Join us for an engaging and impactful Ambassador Meet & Greet hosted by the Douglas County Chamber. This exclusive networking event is designed to strengthen connections between our Chamber Ambassadors and their assigned investors while also opening the door for non-members to experience the value of Chamber membership firsthand.\n\n\n\nDuring the event\, each Ambassador will introduce themselves and their business\, giving attendees a chance to learn more about the people who represent and support the Chamber community. To encourage meaningful engagement\, we'll also facilitate fun and interactive icebreaker conversations to spark dialogue and build relationships in a relaxed\, welcoming environment.\n\n\n\nAmbassadors are encouraged to bring a guest who is not yet a member   someone who could benefit from learning about the Chamber's connections\, support\, and ways to expand your network.\n\n\n\nThis is a unique opportunity to connect\, collaborate\, and showcase the value of Chamber membership to prospective members\, all while enjoying light refreshments and growing your professional network.\n\n\n\nLet's connect\, share\, and build a stronger business community   together!
X-ALT-DESC;FMTTYPE=text/html:<span style="background:white\;"><span style="color:#333333\;"><span style="font-family:arial\,sans-serif\;"><span style="font-size:11.0pt\;">Join us for an engaging and impactful&nbsp\;<strong><span style="font-family:arial\,sans-serif\;">Ambassador Meet &amp\; Greet</span></strong>&nbsp\;hosted by the&nbsp\;<strong><span style="font-family:arial\,sans-serif\;">Douglas County Chamber</span></strong>. This exclusive networking event is designed to strengthen connections between our Chamber Ambassadors and their assigned investors while also opening the door for non-members to experience the value of Chamber membership firsthand.</span></span></span></span><br style="font-variant-ligatures:normal\;font-variant-caps:normal\;orphans:2\;text-align:start\;widows:2\;-webkit-text-stroke-width:0px\;text-decoration-thickness:initial\;text-decoration-style:initial\;word-spacing:0px\;" />\n<br style="font-variant-ligatures:normal\;font-variant-caps:normal\;orphans:2\;text-align:start\;widows:2\;-webkit-text-stroke-width:0px\;text-decoration-thickness:initial\;text-decoration-style:initial\;word-spacing:0px\;" />\n<span style="color:#333333\;"><span style="font-family:arial\,sans-serif\;"><span style="font-size:11.0pt\;"><span style="background:white\;"><span style="font-variant-ligatures:normal\;font-variant-caps:normal\;orphans:2\;text-align:start\;widows:2\;-webkit-text-stroke-width:0px\;text-decoration-thickness:initial\;text-decoration-style:initial\;float:none\;word-spacing:0px\;">During the event\, each Ambassador will introduce themselves and their business\, giving attendees a chance to learn more about the people who represent and support the Chamber community. To encourage meaningful engagement\, we&#39\;ll also facilitate fun and interactive icebreaker conversations to spark dialogue and build relationships in a relaxed\, welcoming environment.</span></span><br style="font-variant-ligatures:normal\;font-variant-caps:normal\;orphans:2\;text-align:start\;widows:2\;-webkit-text-stroke-width:0px\;text-decoration-thickness:initial\;text-decoration-style:initial\;word-spacing:0px\;" />\n<br style="font-variant-ligatures:normal\;font-variant-caps:normal\;orphans:2\;text-align:start\;widows:2\;-webkit-text-stroke-width:0px\;text-decoration-thickness:initial\;text-decoration-style:initial\;word-spacing:0px\;" />\n<span style="background:white\;"><span style="font-variant-ligatures:normal\;font-variant-caps:normal\;orphans:2\;text-align:start\;widows:2\;-webkit-text-stroke-width:0px\;text-decoration-thickness:initial\;text-decoration-style:initial\;float:none\;word-spacing:0px\;">Ambassadors are encouraged to bring a guest who is not yet a member &mdash\; someone who could benefit from learning about the Chamber&rsquo\;s connections\, support\, and ways to expand your network.</span></span><br style="font-variant-ligatures:normal\;font-variant-caps:normal\;orphans:2\;text-align:start\;widows:2\;-webkit-text-stroke-width:0px\;text-decoration-thickness:initial\;text-decoration-style:initial\;word-spacing:0px\;" />\n<br />\n<span style="background:white\;"><span style="font-variant-ligatures:normal\;font-variant-caps:normal\;orphans:2\;text-align:start\;widows:2\;-webkit-text-stroke-width:0px\;text-decoration-thickness:initial\;text-decoration-style:initial\;float:none\;word-spacing:0px\;">This is a unique opportunity to connect\, collaborate\, and showcase the value of Chamber membership to prospective members\, all while enjoying light refreshments and growing your professional network.</span></span></span></span></span><br style="font-variant-ligatures:normal\;font-variant-caps:normal\;orphans:2\;text-align:start\;widows:2\;-webkit-text-stroke-width:0px\;text-decoration-thickness:initial\;text-decoration-style:initial\;word-spacing:0px\;" />\n<br style="font-variant-ligatures:normal\;font-variant-caps:normal\;orphans:2\;text-align:start\;widows:2\;-webkit-text-stroke-width:0px\;text-decoration-thickness:initial\;text-decoration-style:initial\;word-spacing:0px\;" />\n<strong data-end="1253" data-start="1176" style="font-variant-ligatures:normal\;font-variant-caps:normal\;orphans:2\;text-align:start\;widows:2\;-webkit-text-stroke-width:0px\;text-decoration-thickness:initial\;text-decoration-style:initial\;word-spacing:0px\;"><span style="background:white\;"><span style="color:#333333\;"><span style="font-family:arial\,sans-serif\;">Let&rsquo\;s connect\, share\, and build a stronger business community &mdash\; together!</span></span></span></strong><br />\n&nbsp\;
LOCATION:Douglas County Chamber 6658 Church St. Douglasville\, GA 30134
UID:e.184.16440
SEQUENCE:3
DTSTAMP:20260424T141118Z
URL:https://business.douglascountygeorgia.com/events/details/cheers-to-connections-ambassador-mixer-16440
END:VEVENT

END:VCALENDAR
