BEGIN:VCALENDAR
VERSION:2.0
PRODID:-//ChamberMaster//Event Calendar 2.0//EN
METHOD:PUBLISH
X-PUBLISHED-TTL:P3D
REFRESH-INTERVAL:P3D
CALSCALE:GREGORIAN
BEGIN:VEVENT
DTSTART:20200416T220000Z
DTEND:20200417T000000Z
X-MICROSOFT-CDO-ALLDAYEVENT:FALSE
SUMMARY:Cheers to the Arts "Wine in the Woods"
DESCRIPTION:The Cultural Arts Council Douglasville/ Douglas County series "Cheers to the Arts" returns! Join us on April 16\, 2020 for "Wine in the Woods" and experience live entertainment\, tastings\, great food\, door prizes\, art vendors and much more! \n\n\n\nTickets are $25 per person or $20 CAC members. Tickets are available for purchase soon. **Tickets will increase to $30 CAC the day before the event. \n\n\n\nThank you to our Presenting Sponsor: Georgia Power\n\n\n\nSponsorship's available - call 770.949.2787 or email info@artsdouglas.org for more information.
X-ALT-DESC;FMTTYPE=text/html:<span style="background-color:rgb(255\, 255\, 255)\; color:rgb(29\, 33\, 41)\; font-family:helvetica\,arial\,sans-serif\; font-size:14px">The Cultural Arts Council Douglasville/ Douglas County series &quot\;Cheers to the Arts&quot\; returns! Join us on April 16\, 2020 for &quot\;Wine in the Woods&quot\; and experience live entertainment\, tastings\, great food\, door prizes\, art vendors and much more! </span><br />\n<br />\n<span style="background-color:rgb(255\, 255\, 255)\; color:rgb(29\, 33\, 41)\; font-family:helvetica\,arial\,sans-serif\; font-size:14px">Tickets are $25 per person or $20 CAC members. Tickets are available for purchase soon. **Tickets will increase to $30 CAC the day before the event. </span><br />\n<br />\n<span style="background-color:rgb(255\, 255\, 255)\; color:rgb(29\, 33\, 41)\; font-family:helvetica\,arial\,sans-serif\; font-size:14px">Thank you to our Presenting Sponsor: Georgia Power</span><br />\n<br />\n<span style="background-color:rgb(255\, 255\, 255)\; color:rgb(29\, 33\, 41)\; font-family:helvetica\,arial\,sans-serif\; font-size:14px">Sponsorship&#39\;s available - call 770.949.2787 or email info@artsdouglas.org for more information.</span>
LOCATION:Dog River Library 6100 Highway 5 Douglasville\, GA 30135
UID:e.184.9163
SEQUENCE:3
DTSTAMP:20260425T225953Z
URL:https://business.douglascountygeorgia.com/events/details/cheers-to-the-arts-wine-in-the-woods-04-16-2020-9163
END:VEVENT

END:VCALENDAR
