BEGIN:VCALENDAR
VERSION:2.0
PRODID:-//ChamberMaster//Event Calendar 2.0//EN
METHOD:PUBLISH
X-PUBLISHED-TTL:P3D
REFRESH-INTERVAL:P3D
CALSCALE:GREGORIAN
BEGIN:VEVENT
DTSTART:20201201T180000Z
DTEND:20201201T230000Z
X-MICROSOFT-CDO-ALLDAYEVENT:FALSE
SUMMARY:City of Douglasville Holiday Blood Drive
DESCRIPTION:American Red Cross Holiday Blood Drive
X-ALT-DESC;FMTTYPE=text/html:American Red Cross Holiday Blood Drive
LOCATION:Downtown Conference Center - Douglasville
UID:e.184.12128
SEQUENCE:3
DTSTAMP:20260421T234150Z
URL:https://business.douglascountygeorgia.com/events/details/city-of-douglasville-holiday-blood-drive-12-01-2020-12128
END:VEVENT

END:VCALENDAR
