BEGIN:VCALENDAR
VERSION:2.0
PRODID:-//ChamberMaster//Event Calendar 2.0//EN
METHOD:PUBLISH
X-PUBLISHED-TTL:P3D
REFRESH-INTERVAL:P3D
CALSCALE:GREGORIAN
BEGIN:VEVENT
DTSTART:20200103T050000Z
DTEND:20200501T040000Z
X-MICROSOFT-CDO-ALLDAYEVENT:FALSE
SUMMARY:Classes Galore at the Cultural Arts Center!
DESCRIPTION:Come see our line-up of classes and workshops\, everything from classic drawing and photography to crafting jewelry and printmaking\; we have painting parties and cupcake-decorating workshops\, and one-day workshop surprises for paper-making and glass fusing. Sign up before classes fill\, or buy a gift certificate for credit towards classes as a present for a loved one.
X-ALT-DESC;FMTTYPE=text/html:Come see our line-up of classes and workshops\, everything from classic drawing and photography to crafting jewelry and printmaking\; we have painting parties and cupcake-decorating workshops\, and one-day workshop surprises for paper-making and glass fusing. Sign up before classes fill\, or buy a gift certificate for credit towards classes as a present for a loved one.
LOCATION:Cultural Arts Center of Douglasville/ Douglas County. 8652 Campbellton St. Douglasville\, Ga.30134
UID:e.184.11238
SEQUENCE:3
DTSTAMP:20260425T211907Z
URL:https://business.douglascountygeorgia.com/events/details/classes-galore-at-the-cultural-arts-center-11238
END:VEVENT

END:VCALENDAR
