BEGIN:VCALENDAR
VERSION:2.0
PRODID:-//ChamberMaster//Event Calendar 2.0//EN
METHOD:PUBLISH
X-PUBLISHED-TTL:P3D
REFRESH-INTERVAL:P3D
CALSCALE:GREGORIAN
BEGIN:VEVENT
DTSTART:20200609T220000Z
DTEND:20200610T000000Z
X-MICROSOFT-CDO-ALLDAYEVENT:FALSE
SUMMARY:Cultural Arts Council Annual Meeting
DESCRIPTION:Please join the Cultural Arts Council of Douglasville/Douglas County on Tuesday\, June 9th from 6 - 8 pm as we celebrate our previous year's accomplishments and our exciting plans for the coming year.
X-ALT-DESC;FMTTYPE=text/html:<span style="background-color:rgb(255\, 255\, 255)\; color:rgb(29\, 33\, 41)\; font-family:helvetica\,arial\,sans-serif\; font-size:14px">Please join the Cultural Arts Council of Douglasville/Douglas County on Tuesday\, June 9th from 6 - 8 pm as we celebrate our previous year&rsquo\;s accomplishments and our exciting plans for the coming year.</span>
LOCATION:Cultural Arts Council Douglasville/Douglas County 8652 Campbellton Street Douglasville\,GA 30134
UID:e.184.11336
SEQUENCE:3
DTSTAMP:20260425T225946Z
URL:https://business.douglascountygeorgia.com/events/details/cultural-arts-council-annual-meeting-11336
END:VEVENT

END:VCALENDAR
