BEGIN:VCALENDAR
VERSION:2.0
PRODID:-//ChamberMaster//Event Calendar 2.0//EN
METHOD:PUBLISH
X-PUBLISHED-TTL:P3D
REFRESH-INTERVAL:P3D
CALSCALE:GREGORIAN
BEGIN:VEVENT
DTSTART:20251206T143000Z
DTEND:20251206T163000Z
X-MICROSOFT-CDO-ALLDAYEVENT:FALSE
SUMMARY:DCYP Adopt-A-Road Cleanup
DESCRIPTION:DCYP Adopt-A-Road Cleanup!\n\n\n\nPlease join Douglas County Young Professionals (DCYP)\, in partnership with Keep Douglasville Beautiful\, for our next road cleanup on Saturday\, December 6th from 9:30-11:30 AM! Assist other emerging young professionals as we work to clean up the community and keep Douglasville looking beautiful! Register to attend and invite a friend. Please register by December 3rd by 5:00 pm. If you have any questions\, please email jlewis@douglascountyga.gov.\n\nNote: Participants must be 17 years of age or older to participate.
X-ALT-DESC;FMTTYPE=text/html:<p class="xmsonormal"><strong><span style="font-size:20px\;">DCYP Adopt-A-Road Cleanup!</span></strong><br />\n<br />\nPlease join Douglas County Young Professionals (DCYP)\, in partnership with Keep Douglasville Beautiful\, for our next road cleanup on Saturday\, December 6th&nbsp\;from 9:30-11:30 AM! Assist other emerging young professionals as we work to clean up the community and keep Douglasville looking beautiful! Register to attend and invite a friend.&nbsp\;Please register by December 3rd&nbsp\;by 5:00 pm<b>.</b> If you have any questions\, please email <a href="http://jlewis@douglascountyga.gov"><strong>jlewis@douglascountyga.gov.</strong></a><o:p></o:p></p>\n\n<p class="xmsonormal">Note: Participants must be 17&nbsp\;years of age or older to participate. <o:p></o:p></p>\n
LOCATION:DCYP Adopted Route Selman Ave\, Selman Dr.\, Club Dr. (Route Begins and Group Meets Up at the DCHS Parking Lot Near Beginning of Selman Ave.)
UID:e.184.16397
SEQUENCE:3
DTSTAMP:20260422T171355Z
URL:https://business.douglascountygeorgia.com/events/details/dcyp-adopt-a-road-cleanup-16397
END:VEVENT

END:VCALENDAR
