BEGIN:VCALENDAR
VERSION:2.0
PRODID:-//ChamberMaster//Event Calendar 2.0//EN
METHOD:PUBLISH
X-PUBLISHED-TTL:P3D
REFRESH-INTERVAL:P3D
CALSCALE:GREGORIAN
BEGIN:VEVENT
DTSTART:20260321T130000Z
DTEND:20260321T150000Z
X-MICROSOFT-CDO-ALLDAYEVENT:FALSE
SUMMARY:DCYP Adopt-A-Road Cleanup
DESCRIPTION:DCYP Adopt-A-Road Cleanup!\n\n\n\nPlease join Douglas County Young Professionals (DCYP)\, in partnership with Keep Douglasville Beautiful\, for our next road cleanup on Saturday\, October 25th\, from 9:00-11:00 AM! Assist other emerging young professionals as we work to clean up the community and keep Douglasville looking beautiful! Register to attend and invite a friend. \n\n\n\nIf you have any questions\, please email jlewis@douglascountyga.gov.\n\nNote: Participants must be 17 years of age or older to participate.
X-ALT-DESC;FMTTYPE=text/html:<p class="xmsonormal"><strong><span style="font-size:20px\;">DCYP Adopt-A-Road Cleanup!</span></strong><br />\n<br />\nPlease join Douglas County Young Professionals (DCYP)\, in partnership with Keep Douglasville Beautiful\, for our next road cleanup on Saturday\, October 25th\, from 9:00-11:00 AM! Assist other emerging young professionals as we work to clean up the community and keep Douglasville looking beautiful! Register to attend and invite a friend.&nbsp\;<br />\n<br />\nIf you have any questions\, please email jlewis@douglascountyga.gov.<o:p></o:p></p>\n\n<p class="xmsonormal">Note: Participants must be 17&nbsp\;years of age or older to participate. <o:p></o:p></p>\n
LOCATION:Douglas County High School
UID:e.184.17286
SEQUENCE:3
DTSTAMP:20260422T121115Z
URL:https://business.douglascountygeorgia.com/events/details/dcyp-adopt-a-road-cleanup-17286
END:VEVENT

END:VCALENDAR
