BEGIN:VCALENDAR
VERSION:2.0
PRODID:-//ChamberMaster//Event Calendar 2.0//EN
METHOD:PUBLISH
X-PUBLISHED-TTL:P3D
REFRESH-INTERVAL:P3D
CALSCALE:GREGORIAN
BEGIN:VEVENT
DTSTART:20250403T220000Z
DTEND:20250404T000000Z
X-MICROSOFT-CDO-ALLDAYEVENT:FALSE
SUMMARY:DCYP Game Night
DESCRIPTION:Ready for a little friendly competition? Mark your Calendars for DCYP Game Night on Thursday April 3rd\, from 6:00pm- 8:00pm. Join us as we gather at the Douglas County Chamber for a fun night of games\, networking\, delicious food\, and great company!. Bring a friend or your crew and get ready for competition! Tickets are $5 each\, which includes light bites and non-alcoholic drinks\, or $10 each\, which includes light bites and alcoholic beverage. Click here to register! We can't wait to see you there!\n\n \nSteps to Pay\n\n\n	Click the Register button and fill out your information.\n	Visit this link and click the Send button.\n	\n	Log in\, add the respective $5 or $10 fee\, and include DCYP Game Night in the description field.\n\n	\n\n	If viewing this page from a mobile device\, look for the register button at the bottom of the page.
X-ALT-DESC;FMTTYPE=text/html:<span style="color: rgb(36\, 36\, 36)\; font-family: Aptos\, sans-serif\; font-size: 14.6667px\;">&nbsp\;Ready for a little friendly competition? Mark your Calendars for DCYP Game Night on Thursday April 3</span><sup style="color: rgb(36\, 36\, 36)\; font-family: Aptos\, sans-serif\;">rd</sup><span style="color: rgb(36\, 36\, 36)\; font-family: Aptos\, sans-serif\; font-size: 14.6667px\;">\, from 6:00pm- 8:00pm. Join us as we gather at the Douglas County Chamber for a fun night of games\, networking\, delicious food\, and great company!. Bring a friend or your crew and get ready for competition! Tickets are $5 each\, which includes light bites and non-alcoholic drinks\, or $10 each\, which includes light bites and alcoholic beverage. Click here to register! We can&rsquo\;t wait to see you there!</span><br />\n&nbsp\;\n<div class="x_elementToProof" style="border: 0px\; font-variant-numeric: inherit\; font-variant-east-asian: inherit\; font-variant-alternates: inherit\; font-variant-position: inherit\; font-variant-emoji: inherit\; font-stretch: inherit\; font-size: 11pt\; line-height: 1.5em\; font-family: Calibri\, Helvetica\, sans-serif\; font-optical-sizing: inherit\; font-size-adjust: inherit\; font-kerning: inherit\; font-feature-settings: inherit\; font-variation-settings: inherit\; margin: 0in\; padding: 0px\; vertical-align: baseline\; color: rgb(0\, 0\, 0)\;"><span data-olk-copy-source="MessageBody" style="border: 0px\; font-style: inherit\; font-variant: inherit\; font-weight: bolder\; font-stretch: inherit\; font-size: inherit\; line-height: inherit\; font-family: inherit\; font-optical-sizing: inherit\; font-size-adjust: inherit\; font-kerning: inherit\; font-feature-settings: inherit\; font-variation-settings: inherit\; margin: 0px\; padding: 0px\; vertical-align: baseline\; color: inherit\;">Steps to Pay</span></div>\n\n<ol start="1" style="margin-bottom: 1rem\; color: rgb(36\, 36\, 36)\; font-family: &quot\;Segoe UI&quot\;\, &quot\;Segoe UI Web (West European)&quot\;\, -apple-system\, BlinkMacSystemFont\, Roboto\, &quot\;Helvetica Neue&quot\;\, sans-serif\; font-size: 15px\; margin-top: 0px\;">\n	<li style="font-family: Calibri\, Helvetica\, sans-serif\; font-size: 11pt\; font-weight: 700\; color: rgb(0\, 0\, 0)\; margin: 0px\;">Click the&nbsp\;<span style="border: 0px\; font-style: inherit\; font-variant: inherit\; font-weight: bolder\; font-stretch: inherit\; font-size: inherit\; line-height: inherit\; font-family: inherit\; font-optical-sizing: inherit\; font-size-adjust: inherit\; font-kerning: inherit\; font-feature-settings: inherit\; font-variation-settings: inherit\; margin: 0px\; padding: 0px\; vertical-align: baseline\; color: inherit\;">Register</span>&nbsp\;button and fill out your information.</li>\n	<li style="font-family: Calibri\, Helvetica\, sans-serif\; font-size: 11pt\; font-weight: 700\; color: rgb(0\, 0\, 0)\; margin: 0px\;">Visit<span style="border: 0px\; font: inherit\; margin: 0px\; padding: 0px\; vertical-align: baseline\; color: rgb(34\, 72\, 132)\;"><a class="x_OWAAutoLink" data-auth="NotApplicable" data-linkindex="0" href="https://urldefense.com/v3/__https:/www.paypal.com/paypalme/DCCFoundation6?country.x=US&amp\;locale.x=en_US__\;!!IWSQ2cCOUIPCQhU!puZaOKdaRlGbARH-d_0boDz_vjK9LTgchVcQ7fb2HW4boCridTcjjSxNwfmcp7Hlim96YjUtEkVvAxAtyf8UPwyIHgSCOpOeqTg$" id="OWAe6fbb383-c725-e1d5-cc63-f52c9ac9e4fa" style="border: 0px\; font: inherit\; margin: 0px\; padding: 0px\; vertical-align: baseline\; color: rgb(34\, 72\, 132)\;" title="https://urldefense.com/v3/__https:/www.paypal.com/paypalme/DCCFoundation6?country.x=US&amp\;locale.x=en_US__\;!!IWSQ2cCOUIPCQhU!puZaOKdaRlGbARH-d_0boDz_vjK9LTgchVcQ7fb2HW4boCridTcjjSxNwfmcp7Hlim96YjUtEkVvAxAtyf8UPwyIHgSCOpOeqTg$">&nbsp\;this link</a></span>&nbsp\;and click the&nbsp\;<span style="border: 0px\; font-style: inherit\; font-variant: inherit\; font-weight: bolder\; font-stretch: inherit\; font-size: inherit\; line-height: inherit\; font-family: inherit\; font-optical-sizing: inherit\; font-size-adjust: inherit\; font-kerning: inherit\; font-feature-settings: inherit\; font-variation-settings: inherit\; margin: 0px\; padding: 0px\; vertical-align: baseline\; color: inherit\;">Send</span>&nbsp\;button.</li>\n	<li style="font-family: Calibri\, Helvetica\, sans-serif\; font-size: 11pt\; font-weight: 700\; color: rgb(0\, 0\, 0)\; margin: 0px\;">\n	<div style="border: 0px\; font: inherit\; margin: 0px\; padding: 0px\; vertical-align: baseline\; color: inherit\;">Log in\, add the respective $5 or $10 fee\, and include&nbsp\;<span style="border: 0px\; font-style: inherit\; font-variant: inherit\; font-weight: bolder\; font-stretch: inherit\; font-size: inherit\; line-height: inherit\; font-family: inherit\; font-optical-sizing: inherit\; font-size-adjust: inherit\; font-kerning: inherit\; font-feature-settings: inherit\; font-variation-settings: inherit\; margin: 0px\; padding: 0px\; vertical-align: baseline\; color: inherit\;">DCYP Game Night</span>&nbsp\;in the description field.<br />\n	<br />\n	If viewing this page from a mobile device\, look for the register button at the bottom of the page.&nbsp\;</div>\n	</li>\n</ol>\n
LOCATION:Douglas County Chamber
UID:e.184.16365
SEQUENCE:3
DTSTAMP:20260424T224306Z
URL:https://business.douglascountygeorgia.com/events/details/dcyp-game-night-16365
END:VEVENT

END:VCALENDAR
