BEGIN:VCALENDAR
VERSION:2.0
PRODID:-//ChamberMaster//Event Calendar 2.0//EN
METHOD:PUBLISH
X-PUBLISHED-TTL:P3D
REFRESH-INTERVAL:P3D
CALSCALE:GREGORIAN
BEGIN:VEVENT
DTSTART:20250918T220000Z
DTEND:20250919T000000Z
X-MICROSOFT-CDO-ALLDAYEVENT:FALSE
SUMMARY:DCYP's Harvest Your Network
DESCRIPTION:Fall's not just for pumpkin spice and cozy sweaters\, it's the perfect season to plant the seeds of your future. Join Douglas County Young Professionals on September 18th from 6:00pm to 8:00pm at Sam & Rosco's for Harvest Your Network\, a recruitment-powered networking bash designed for young professionals ready to cultivate meaningful connections and reap the rewards. Whether you're looking to grow your circle\, explore new career paths\, or just vibe with other driven individuals\, this event is your golden hour.\n\n \n\nCome curious\, leave connected\, and discover how joining Douglas County Young Professionals can help you thrive year-round. It's time to harvest the power of your network!
X-ALT-DESC;FMTTYPE=text/html:<p class="x_xxxxxmsonormal" data-olk-copy-source="MessageBody" style="margin: 0in\; font-size: 11pt\; font-family: Aptos\, sans-serif\; color: rgb(36\, 36\, 36)\;">Fall&#39\;s not just for pumpkin spice and cozy sweaters\, it&#39\;s the perfect season to plant the seeds of your future. Join Douglas County Young Professionals on September 18<sup>th</sup>&nbsp\;from 6:00pm to 8:00pm at Sam &amp\; Rosco&#39\;s for Harvest Your Network\, a recruitment-powered networking bash designed for young professionals ready to cultivate meaningful connections and reap the rewards. Whether you&#39\;re looking to grow your circle\, explore new career paths\, or just vibe with other driven individuals\, this event is your golden hour.</p>\n\n<p aria-hidden="true" class="x_xxxxxmsonormal" style="margin: 0in\; font-size: 11pt\; font-family: Aptos\, sans-serif\; color: rgb(36\, 36\, 36)\;">&nbsp\;</p>\n\n<p class="x_xxxxxmsonormal" style="margin: 0in\; font-size: 11pt\; font-family: Aptos\, sans-serif\; color: rgb(36\, 36\, 36)\;">Come curious\, leave connected\, and discover how joining Douglas County Young Professionals can help you thrive year-round. It&#39\;s time to harvest the power of your network!<br />\n&nbsp\;</p>\n
LOCATION:
UID:e.184.16776
SEQUENCE:3
DTSTAMP:20260424T084708Z
URL:https://business.douglascountygeorgia.com/events/details/dcyp-s-harvest-your-network-16776
END:VEVENT

END:VCALENDAR
