BEGIN:VCALENDAR
VERSION:2.0
PRODID:-//ChamberMaster//Event Calendar 2.0//EN
METHOD:PUBLISH
X-PUBLISHED-TTL:P3D
REFRESH-INTERVAL:P3D
CALSCALE:GREGORIAN
BEGIN:VEVENT
DTSTART:20250428T130000Z
DTEND:20250428T150000Z
X-MICROSOFT-CDO-ALLDAYEVENT:FALSE
SUMMARY:DCYP's Lead Forward: Developing the Next Generation of Leaders
DESCRIPTION:Lead Forward is a leadership development event hosted by Douglas County Young Professionals and designed to empower and equip young professionals with the skills\, insights\, and connections needed to grow into impactful leaders. This engaging experience brings together emerging leaders\, industry experts\, and business professionals for a morning of networking\, professional development\, and inspiration.\n\n\nAttendees will hear from keynote speaker Darius Elder\, a certified John Maxwell Trainer\, who will share strategies on leadership growth\, influence\, and personal development. The event will also feature  networking opportunities\, meaningful discussions\, and practical tools to help young professionals elevate their leadership journey.\n\n\n\nThis event is specifically geared toward young professionals ages 21-40\, but all are welcome to join and benefit from the leadership insights and networking opportunities.\n\n\n\nTable Sponsor: $450 (10% discount)\n\n\n	Reserved table for 10 attendees\n\nPremium Sponsor: $750\n\n\n	Table reservation for 10 attendees\n	Acknowledgement during the opening and closing remarks\n	Sponsor name or logo featured on a slide during the keynote or networking portions of the event.\n	Recognition in event-related email marketing and social media posts.\n	Opportunity to deliver up to 5-minute remarks during the program\, allowing the sponsor to share their company's mission\, values\, or community involvement.\n	Sponsor-provided swag or branded materials placed at each attendee's seat.\n	Onsite vendor table for direct engagement with attendees.\n\n\nSteps to Register/Pay Sponsorship:\n\n\n	Click the Register button and fill out your information.\n	Visit this link and click the Send button.\n	Log in\, add the $50 fee\, and include DCYP Lead Forward in the description field.\n\n\nIf viewing this page from a mobile device\, look for the register button at the bottom of the page.
X-ALT-DESC;FMTTYPE=text/html:<p style="color: rgb(36\, 36\, 36)\; font-family: &quot\;Segoe UI&quot\;\, &quot\;Segoe UI Web (West European)&quot\;\, -apple-system\, BlinkMacSystemFont\, Roboto\, &quot\;Helvetica Neue&quot\;\, sans-serif\; font-size: 15px\; background-image: initial\; background-position: initial\; background-size: initial\; background-repeat: initial\; background-attachment: initial\; background-origin: initial\; background-clip: initial\;"><span style="font-size:14px\;"><span data-olk-copy-source="MessageBody" style="border: 0px\; font-style: inherit\; font-variant: inherit\; font-weight: inherit\; font-stretch: inherit\; line-height: inherit\; font-optical-sizing: inherit\; font-size-adjust: inherit\; font-kerning: inherit\; font-feature-settings: inherit\; font-variation-settings: inherit\; margin: 0px\; padding: 0px\; vertical-align: baseline\; color: black !important\;">Lead Forward&nbsp\;is a leadership development event hosted by Douglas County Young Professionals and designed to empower and equip young professionals with the skills\, insights\, and connections needed to grow into impactful leaders. This engaging experience brings together emerging leaders\, industry experts\, and business professionals for a morning of networking\, professional development\, and inspiration.</span></span></p>\n\n<div style="border: 0px\; font-variant-numeric: inherit\; font-variant-east-asian: inherit\; font-variant-alternates: inherit\; font-variant-position: inherit\; font-variant-emoji: inherit\; font-stretch: inherit\; font-size: 15px\; line-height: inherit\; font-family: &quot\;Segoe UI&quot\;\, &quot\;Segoe UI Web (West European)&quot\;\, -apple-system\, BlinkMacSystemFont\, Roboto\, &quot\;Helvetica Neue&quot\;\, sans-serif\; font-optical-sizing: inherit\; font-size-adjust: inherit\; font-kerning: inherit\; font-feature-settings: inherit\; font-variation-settings: inherit\; margin: 12pt 0px\; padding: 0px\; vertical-align: baseline\; color: rgb(36\, 36\, 36)\;">\n<p class="x_MsoNormal" style="margin: 0in\; font-size: 12pt\; font-family: Aptos\, sans-serif\; background-image: initial\; background-position: initial\; background-size: initial\; background-repeat: initial\; background-attachment: initial\; background-origin: initial\; background-clip: initial\;"><span style="font-size:14px\;"><span style="border: 0px\; font-style: inherit\; font-variant: inherit\; font-weight: inherit\; font-stretch: inherit\; line-height: inherit\; font-optical-sizing: inherit\; font-size-adjust: inherit\; font-kerning: inherit\; font-feature-settings: inherit\; font-variation-settings: inherit\; margin: 0px\; padding: 0px\; vertical-align: baseline\; color: black !important\;">Attendees will hear from keynote speaker Darius Elder\, a certified John Maxwell Trainer\, who will share strategies on leadership growth\, influence\, and personal development. The event will also feature &nbsp\;networking opportunities\, meaningful discussions\, and practical tools to help young professionals elevate their leadership journey.</span></span></p>\n</div>\n\n<div style="border: 0px\; font-variant-numeric: inherit\; font-variant-east-asian: inherit\; font-variant-alternates: inherit\; font-variant-position: inherit\; font-variant-emoji: inherit\; font-stretch: inherit\; font-size: 15px\; line-height: inherit\; font-family: &quot\;Segoe UI&quot\;\, &quot\;Segoe UI Web (West European)&quot\;\, -apple-system\, BlinkMacSystemFont\, Roboto\, &quot\;Helvetica Neue&quot\;\, sans-serif\; font-optical-sizing: inherit\; font-size-adjust: inherit\; font-kerning: inherit\; font-feature-settings: inherit\; font-variation-settings: inherit\; margin: 12pt 0px\; padding: 0px\; vertical-align: baseline\; color: rgb(36\, 36\, 36)\;">\n<p class="x_MsoNormal" style="margin: 0in\; font-size: 12pt\; font-family: Aptos\, sans-serif\; background-image: initial\; background-position: initial\; background-size: initial\; background-repeat: initial\; background-attachment: initial\; background-origin: initial\; background-clip: initial\;"><span style="font-size:14px\;"><span style="border: 0px\; font-style: inherit\; font-variant: inherit\; font-weight: inherit\; font-stretch: inherit\; line-height: inherit\; font-optical-sizing: inherit\; font-size-adjust: inherit\; font-kerning: inherit\; font-feature-settings: inherit\; font-variation-settings: inherit\; margin: 0px\; padding: 0px\; vertical-align: baseline\; color: black !important\;">This event is specifically geared toward young professionals ages 21-40\, but all are welcome&nbsp\;to join and benefit from the leadership insights and networking opportunities.</span></span><br />\n<br />\n<strong><span style="color:black\;"><span style="font-family:calibri\,sans-serif\;"><span style="font-size:11.0pt\;">Table Sponsor: $450 (10% discount)</span></span></span></strong></p>\n\n<ul>\n	<li style="color:black\;"><span style="font-family:calibri\,sans-serif\;"><span style="font-size:11.0pt\;">Reserved table for 10 attendees</span></span></li>\n</ul>\n<strong><span style="color:black\;"><span style="font-family:calibri\,sans-serif\;"><span style="font-size:11.0pt\;">Premium Sponsor: $750</span></span></span></strong>\n\n<ul>\n	<li style="color:black\;"><span style="font-family:calibri\,sans-serif\;"><span style="font-size:11.0pt\;">Table reservation for 10 attendees</span></span></li>\n	<li style="color:black\;"><span style="font-family:calibri\,sans-serif\;"><span style="font-size:11.0pt\;">Acknowledgement during the opening and closing remarks</span></span></li>\n	<li style="color:black\;"><span style="font-family:calibri\,sans-serif\;"><span style="font-size:11.0pt\;">Sponsor name or logo featured on a slide during the keynote or networking portions of the event.</span></span></li>\n	<li style="color:black\;"><span style="font-family:calibri\,sans-serif\;"><span style="font-size:11.0pt\;">Recognition in event-related email marketing and social media posts.</span></span></li>\n	<li style="color:black\;"><span style="font-family:calibri\,sans-serif\;"><span style="font-size:11.0pt\;">Opportunity to deliver&nbsp\;up to 5-minute remarks during the program\, allowing the sponsor to share their company&rsquo\;s mission\, values\, or community involvement.</span></span></li>\n	<li style="color:black\;"><span style="font-family:calibri\,sans-serif\;"><span style="font-size:11.0pt\;">Sponsor-provided swag or branded materials placed at each attendee&rsquo\;s seat.</span></span></li>\n	<li style="color:black\;"><span style="font-family:calibri\,sans-serif\;"><span style="font-size:11.0pt\;">Onsite vendor table for direct engagement with attendees.</span></span></li>\n</ul>\n\n<p class="x_MsoNormal" style="margin: 0in\; font-size: 12pt\; font-family: Aptos\, sans-serif\; background-image: initial\; background-position: initial\; background-size: initial\; background-repeat: initial\; background-attachment: initial\; background-origin: initial\; background-clip: initial\;"><span style="font-size:14px\;"><strong><span style="color: black\;"><span style="font-family: calibri\, sans-serif\;">Steps to Register/Pay Sponsorship:</span></span></strong></span></p>\n\n<ol>\n	<li style="color: black\;"><span style="font-size:14px\;"><span style="font-family: calibri\, sans-serif\;">Click the&nbsp\;<strong>Register</strong>&nbsp\;button and fill out your information.</span></span></li>\n	<li style="color: black\;"><span style="font-size:14px\;"><span style="font-family: calibri\, sans-serif\;">Visit<a href="https://urldefense.com/v3/__https:/www.paypal.com/paypalme/DCCFoundation6?country.x=US&amp\;locale.x=en_US__\;!!IWSQ2cCOUIPCQhU!puZaOKdaRlGbARH-d_0boDz_vjK9LTgchVcQ7fb2HW4boCridTcjjSxNwfmcp7Hlim96YjUtEkVvAxAtyf8UPwyIHgSCOpOeqTg$" title="https://urldefense.com/v3/__https:/www.paypal.com/paypalme/DCCFoundation6?country.x=US&amp\;locale.x=en_US__\;!!IWSQ2cCOUIPCQhU!puZaOKdaRlGbARH-d_0boDz_vjK9LTgchVcQ7fb2HW4boCridTcjjSxNwfmcp7Hlim96YjUtEkVvAxAtyf8UPwyIHgSCOpOeqTg$">&nbsp\;this link</a>&nbsp\;and click the&nbsp\;<strong>Send</strong>&nbsp\;button.</span></span></li>\n	<li style="color: black\;"><span style="font-size:14px\;"><span style="font-family: calibri\, sans-serif\;">Log in\, add the $50&nbsp\;fee\, and include&nbsp\;<strong>DCYP Lead Forward</strong>&nbsp\;in the description field.</span></span></li>\n</ol>\n\n<div style="color: black\;"><em><span style="color:black\;"><span style="font-family:calibri\,sans-serif\;"><span style="font-size:11.0pt\;">If viewing this page from a mobile device\, look for the register button at the bottom of the page.</span></span></span></em></div>\n</div>\n
LOCATION:GreyStone Power Corporation 3400 Hiram Douglasville Hwy\, Hiram\, GA 30141
UID:e.184.16359
SEQUENCE:3
DTSTAMP:20260424T223254Z
URL:https://business.douglascountygeorgia.com/events/details/dcyp-s-lead-forward-developing-the-next-generation-of-leaders-16359
END:VEVENT

END:VCALENDAR
