BEGIN:VCALENDAR
VERSION:2.0
PRODID:-//ChamberMaster//Event Calendar 2.0//EN
METHOD:PUBLISH
X-PUBLISHED-TTL:P3D
REFRESH-INTERVAL:P3D
CALSCALE:GREGORIAN
BEGIN:VEVENT
DTSTART:20260417T153000Z
DTEND:20260417T173000Z
X-MICROSOFT-CDO-ALLDAYEVENT:FALSE
SUMMARY:DCYP's Pop-Up Lunch
DESCRIPTION:Lunch pop up at Hudson's where Elena Hudson will speak to attendees about her journey as a young professional\, business owner\, entrepreneur\, local politician\, etc. "fireside chat style".
X-ALT-DESC;FMTTYPE=text/html:<span style="font-size:16px\;"><span style="font-family:arial\;">Lunch pop up at Hudson&rsquo\;s where Elena Hudson will speak to attendees about her journey as a young professional\, business owner\, entrepreneur\, local politician\, etc. &ldquo\;fireside chat style&rdquo\;.</span></span>
LOCATION:Hudson's Hickory House
UID:e.184.17288
SEQUENCE:3
DTSTAMP:20260419T215516Z
URL:https://business.douglascountygeorgia.com/events/details/dcyp-s-pop-up-lunch-17288
END:VEVENT

END:VCALENDAR
