BEGIN:VCALENDAR
VERSION:2.0
PRODID:-//ChamberMaster//Event Calendar 2.0//EN
METHOD:PUBLISH
X-PUBLISHED-TTL:P3D
REFRESH-INTERVAL:P3D
CALSCALE:GREGORIAN
BEGIN:VEVENT
DTSTART:20200716T130000Z
DTEND:20200827T210000Z
X-MICROSOFT-CDO-ALLDAYEVENT:FALSE
SUMMARY:Douglas County Art Guild Presents...Art Swap with the Carrollton Art Guild Exhibit
DESCRIPTION:Come view a showcase of artwork from Carrollton's guild that would usually be displayed a town away\, while our local Guild displays their work at the Carrollton Cultural Art Center. It's an Art Swap between guilds! Join us for the reception that will be hosted by Douglasville's own Rotary Club on the evening of July 16th\, 5-7 pm.
X-ALT-DESC;FMTTYPE=text/html:<span style="background-color:rgb(255\, 255\, 255)\; color:rgb(29\, 33\, 41)\; font-family:helvetica\,arial\,sans-serif\; font-size:14px">Come view a showcase of artwork from Carrollton&#39\;s guild that would usually be displayed a town away\, while our local Guild displays their work at the Carrollton Cultural Art Center. It&#39\;s an Art Swap between guilds! Join us for the reception that will be hosted by Douglasville&#39\;s own Rotary Club on the evening of July 16th\, 5-7 pm.</span>
LOCATION:8652 Campbellton St. Douglasville
UID:e.184.11463
SEQUENCE:3
DTSTAMP:20260426T002609Z
URL:https://business.douglascountygeorgia.com/events/details/douglas-county-art-guild-presents-art-swap-with-the-carrollton-art-guild-exhibit-11463
END:VEVENT

END:VCALENDAR
