BEGIN:VCALENDAR
VERSION:2.0
PRODID:-//ChamberMaster//Event Calendar 2.0//EN
METHOD:PUBLISH
X-PUBLISHED-TTL:P3D
REFRESH-INTERVAL:P3D
CALSCALE:GREGORIAN
BEGIN:VEVENT
DTSTART:20250227T133000Z
DTEND:20250227T160000Z
X-MICROSOFT-CDO-ALLDAYEVENT:FALSE
SUMMARY:Douglas County Day at the Capitol
DESCRIPTION:Day at the Capitol\n\nYour Douglas County Chamber prides itself on serving as the voice of business.\n\n\n\nWe invite you to join us for a morning of networking with our State Delegation as we represent our Douglas business community on February 27th.\n\nSpace is limited - early registration is encouraged!\n\nThe event will begin at 8:30 am for breakfast and networking with our legislators\, and online registration is required.\n\n \n\nJoin us for this very important day as we travel to meet our Douglas County Delegation at the state capitol as well as take a group photo.
X-ALT-DESC;FMTTYPE=text/html:<p style="margin: 0in 0in 3.75pt\; background-image: initial\; background-position: initial\; background-size: initial\; background-repeat: initial\; background-attachment: initial\; background-origin: initial\; background-clip: initial\; vertical-align: baseline\;"><u><strong>Day at the Capitol</strong></u></p>\n\n<p style="box-sizing: inherit\; margin-top: 0px\; margin-right: 0px\; margin-bottom: var(--spacing-small)\; margin-left: 0px\; padding: 0px\; border: 0px\; font-size: 16px\; vertical-align: baseline\; color: rgb(50\, 51\, 56)\; font-family: Figtree\, Roboto\, &quot\;Noto Sans Hebrew&quot\;\, &quot\;Noto Kufi Arabic&quot\;\, &quot\;Noto Sans JP&quot\;\, sans-serif\; outline: none !important\;">Your Douglas County Chamber prides itself on serving as the voice of business.</p>\n\n<p style="box-sizing: inherit\; margin-top: 0px\; margin-right: 0px\; margin-bottom: var(--spacing-small)\; margin-left: 0px\; padding: 0px\; border: 0px\; font-size: 16px\; vertical-align: baseline\; color: rgb(50\, 51\, 56)\; font-family: Figtree\, Roboto\, &quot\;Noto Sans Hebrew&quot\;\, &quot\;Noto Kufi Arabic&quot\;\, &quot\;Noto Sans JP&quot\;\, sans-serif\; outline: none !important\;"><br style="box-sizing: inherit\; outline: none !important\;" />\nWe invite you to join us for a morning of networking with our State Delegation as we represent our Douglas business community on February 27th.</p>\n\n<p style="box-sizing: inherit\; margin-top: 0px\; margin-right: 0px\; margin-bottom: var(--spacing-small)\; margin-left: 0px\; padding: 0px\; border: 0px\; font-size: 16px\; vertical-align: baseline\; color: rgb(50\, 51\, 56)\; font-family: Figtree\, Roboto\, &quot\;Noto Sans Hebrew&quot\;\, &quot\;Noto Kufi Arabic&quot\;\, &quot\;Noto Sans JP&quot\;\, sans-serif\; outline: none !important\;">Space is limited - early registration is encouraged!</p>\n\n<p style="box-sizing: inherit\; margin-top: 0px\; margin-right: 0px\; margin-bottom: var(--spacing-small)\; margin-left: 0px\; padding: 0px\; border: 0px\; font-size: 16px\; vertical-align: baseline\; color: rgb(50\, 51\, 56)\; font-family: Figtree\, Roboto\, &quot\;Noto Sans Hebrew&quot\;\, &quot\;Noto Kufi Arabic&quot\;\, &quot\;Noto Sans JP&quot\;\, sans-serif\; outline: none !important\;">The event will begin at 8:30 am for breakfast and networking with our legislators\, and online registration is required.<br />\n&nbsp\;</p>\n\n<p style="box-sizing: inherit\; margin-top: 0px\; margin-right: 0px\; margin-bottom: var(--spacing-small)\; margin-left: 0px\; padding: 0px\; border: 0px\; font-size: 16px\; vertical-align: baseline\; color: rgb(50\, 51\, 56)\; font-family: Figtree\, Roboto\, &quot\;Noto Sans Hebrew&quot\;\, &quot\;Noto Kufi Arabic&quot\;\, &quot\;Noto Sans JP&quot\;\, sans-serif\; outline: none !important\;">Join us for this very important day as we travel to meet our Douglas County Delegation at the state capitol as well as take a group photo.</p>\n\n<p style="margin: 0in 0in 3.75pt\; background-image: initial\; background-position: initial\; background-size: initial\; background-repeat: initial\; background-attachment: initial\; background-origin: initial\; background-clip: initial\; vertical-align: baseline\;"><span style="font-family:Roboto\;color:#323338"><o:p></o:p></span></p>\n
LOCATION:Georgia State Capitol
UID:e.184.16354
SEQUENCE:3
DTSTAMP:20260425T032017Z
URL:https://business.douglascountygeorgia.com/events/details/douglas-county-day-at-the-capitol-16354
END:VEVENT

END:VCALENDAR
