BEGIN:VCALENDAR
VERSION:2.0
PRODID:-//ChamberMaster//Event Calendar 2.0//EN
METHOD:PUBLISH
X-PUBLISHED-TTL:P3D
REFRESH-INTERVAL:P3D
CALSCALE:GREGORIAN
BEGIN:VEVENT
DTSTART:20260224T133000Z
DTEND:20260224T160000Z
X-MICROSOFT-CDO-ALLDAYEVENT:FALSE
SUMMARY:Douglas County Day at the Capitol
DESCRIPTION:At the Douglas County Chamber we pride ourselves on being the place where partnerships and businesses thrive and are proud to serve as the voice of business.\n\nWe invite you to join us for a Day at the Capitol presented by Georgia Power Company on February 24\, 2026\, for a morning of networking with our State Delegation as we advocate on behalf of the Douglas County business community.\n\nThe event will begin at 8:30 a.m. with breakfast and networking alongside our legislators. Online registration is required\, and space is limited early registration is encouraged.\n\nThis is a valuable opportunity to represent Douglas County\, engage directly with our elected officials\, and take part in a group photo at the State Capitol.\n\nWe hope you'll join us for this important day of advocacy and connection.
X-ALT-DESC;FMTTYPE=text/html:<div data-olk-copy-source="MessageBody" style="border: 0px\; font-variant-numeric: inherit\; font-variant-east-asian: inherit\; font-variant-alternates: inherit\; font-variant-position: inherit\; font-variant-emoji: inherit\; font-stretch: inherit\; font-size: 12pt\; line-height: inherit\; font-family: Aptos\, Aptos_EmbeddedFont\, Aptos_MSFontService\, Calibri\, Helvetica\, sans-serif\; font-optical-sizing: inherit\; font-size-adjust: inherit\; font-kerning: inherit\; font-feature-settings: inherit\; font-variation-settings: inherit\; font-language-override: inherit\; margin: 0px 0px 5px\; padding: 0px\; vertical-align: baseline\; color: black\;"><span style="font-size:14px\;"><span style="font-family:arial\;">At the Douglas County Chamber we pride ourselves on being the place where partnerships and businesses thrive and are proud to serve as the voice of business.</span></span></div>\n\n<div style="border: 0px\; font-variant-numeric: inherit\; font-variant-east-asian: inherit\; font-variant-alternates: inherit\; font-variant-position: inherit\; font-variant-emoji: inherit\; font-stretch: inherit\; font-size: 12pt\; line-height: inherit\; font-family: Aptos\, Aptos_EmbeddedFont\, Aptos_MSFontService\, Calibri\, Helvetica\, sans-serif\; font-optical-sizing: inherit\; font-size-adjust: inherit\; font-kerning: inherit\; font-feature-settings: inherit\; font-variation-settings: inherit\; font-language-override: inherit\; margin: 0px 0px 5px\; padding: 0px\; vertical-align: baseline\; color: black\;"><span style="font-size:14px\;"><span style="font-family:arial\;">We invite you to join us for a&nbsp\;Day at the Capitol presented by Georgia Power Company&nbsp\;on February 24\, 2026\, for a&nbsp\;morning of networking with our State Delegation as we advocate on behalf of the Douglas County business community.</span></span></div>\n\n<div style="border: 0px\; font-variant-numeric: inherit\; font-variant-east-asian: inherit\; font-variant-alternates: inherit\; font-variant-position: inherit\; font-variant-emoji: inherit\; font-stretch: inherit\; font-size: 12pt\; line-height: inherit\; font-family: Aptos\, Aptos_EmbeddedFont\, Aptos_MSFontService\, Calibri\, Helvetica\, sans-serif\; font-optical-sizing: inherit\; font-size-adjust: inherit\; font-kerning: inherit\; font-feature-settings: inherit\; font-variation-settings: inherit\; font-language-override: inherit\; margin: 0px 0px 5px\; padding: 0px\; vertical-align: baseline\; color: black\;"><span style="font-size:14px\;"><span style="font-family:arial\;">The event will begin&nbsp\;at&nbsp\;8:30 a.m.&nbsp\;with breakfast and networking alongside our legislators. Online registration is required\, and space is limited&mdash\;early registration is encouraged.</span></span></div>\n\n<div style="border: 0px\; font-variant-numeric: inherit\; font-variant-east-asian: inherit\; font-variant-alternates: inherit\; font-variant-position: inherit\; font-variant-emoji: inherit\; font-stretch: inherit\; font-size: 12pt\; line-height: inherit\; font-family: Aptos\, Aptos_EmbeddedFont\, Aptos_MSFontService\, Calibri\, Helvetica\, sans-serif\; font-optical-sizing: inherit\; font-size-adjust: inherit\; font-kerning: inherit\; font-feature-settings: inherit\; font-variation-settings: inherit\; font-language-override: inherit\; margin: 0px 0px 5px\; padding: 0px\; vertical-align: baseline\; color: black\;"><span style="font-size:14px\;"><span style="font-family:arial\;">This is a valuable opportunity to represent Douglas County\, engage directly with our elected officials\, and take part in a group photo at the State Capitol.</span></span></div>\n\n<div style="border: 0px\; font-variant-numeric: inherit\; font-variant-east-asian: inherit\; font-variant-alternates: inherit\; font-variant-position: inherit\; font-variant-emoji: inherit\; font-stretch: inherit\; font-size: 12pt\; line-height: inherit\; font-family: Aptos\, Aptos_EmbeddedFont\, Aptos_MSFontService\, Calibri\, Helvetica\, sans-serif\; font-optical-sizing: inherit\; font-size-adjust: inherit\; font-kerning: inherit\; font-feature-settings: inherit\; font-variation-settings: inherit\; font-language-override: inherit\; margin: 0px 0px 5px\; padding: 0px\; vertical-align: baseline\; color: black\;"><span style="font-size:14px\;"><span style="font-family:arial\;">We hope you&rsquo\;ll join us for this important day of advocacy and connection.</span></span></div>\n
LOCATION:Georgia State Capitol | Capitol Sq SW\, Atlanta\, GA 30334 | Room 125
UID:e.184.17290
SEQUENCE:3
DTSTAMP:20260419T165820Z
URL:https://business.douglascountygeorgia.com/events/details/douglas-county-day-at-the-capitol-17290
END:VEVENT

END:VCALENDAR
