BEGIN:VCALENDAR
VERSION:2.0
PRODID:-//ChamberMaster//Event Calendar 2.0//EN
METHOD:PUBLISH
X-PUBLISHED-TTL:P3D
REFRESH-INTERVAL:P3D
CALSCALE:GREGORIAN
BEGIN:VEVENT
DTSTART;VALUE=DATE:20200427
DTEND;VALUE=DATE:20200601
TRANSP:TRANSPARENT
X-MICROSOFT-CDO-ALLDAYEVENT:TRUE
SUMMARY:Douglas County Dining Card Program
DESCRIPTION:Support local restaurants and frontline healthcare workers by purchasing a Douglas County Dining Card!\n\nCards are now available for $20 each and feature special offers from 10 local Chamber Member restaurants! \n\n100% of the proceeds will go towards the Douglas Strong Relief Fund.\nDouglas County Dining Card valued up to $80.\n\nValid June 1   December 31\, 2020.\n\nDine In Only. Offer valid with purchase of entr e. Not valid with any other offer.\n\n \n\nOffers:\n\n\n	Blu Rose Bistro (Downtown Douglasville)   Free Appetizer up to $10.\n	Burke's Grill (Chapel Hill Road)   Free Appetizer up to $10. Not valid on Sundays.\n	Carrabba's Italian Grill (Chapel Hill Road)   Free Appetizer up to $10.\n	The Farmer's Table (Hwy 5)   Free Slice of Cake.\n	Gabe's Downtown (Downtown Douglasville)   Free Appetizer up to $10.\n	Hudson's Hickory House (Downtown Douglasville)   Free Appetizer up to $5.\n	Shane's Rib Shack (Chapel Hill Road)   BOGO   Off Pork Plate.\n	Texas Roadhouse (Chapel Hill Road)   Free Appetizer up to $10.\n	The Otherside (Downtown Villa Rica)   Free Appetizer up to $10.\n	Williamson Brothers BBQ (Concourse Parkway/Douglasville)   Free Pork or Chicken Sandwich with Purchase of a Platter    valid on curbside and to go.
X-ALT-DESC;FMTTYPE=text/html:<p class="xmsonormal"><span style="font-size:14px\;"><span style="font-family:arial\;">Support local restaurants and frontline healthcare workers by purchasing a Douglas County Dining Card!</span></span><o:p></o:p></p>\n\n<p class="xmsonormal"><span style="font-size:14px\;"><span style="font-family:arial\;">Cards are now available for $20 each and feature special offers from 10&nbsp\;local Chamber Member restaurants!&nbsp\;</span></span><o:p></o:p></p>\n\n<p class="xmsonormal"><span style="font-size:14px\;"><span style="font-family:arial\;">100% of the proceeds will go towards the Douglas Strong Relief Fund.</span></span><o:p></o:p></p>\n<span style="font-size:14px\;"><span style="font-family:arial\;">Douglas County Dining Card valued up to $80.<br />\nValid June 1 &ndash\; December 31\, 2020.<br />\nDine In Only. Offer valid with purchase of entr&eacute\;e. Not valid with any other offer.<br />\n&nbsp\;<br />\nOffers:</span></span>\n\n<ul>\n	<li><span style="font-size:14px\;"><span style="font-family:arial\;">Blu Rose Bistro&nbsp\;(Downtown Douglasville) &ndash\; Free Appetizer up to $10.</span></span></li>\n	<li><span style="font-size:14px\;"><span style="font-family:arial\;">Burke&rsquo\;s Grill (Chapel Hill Road) &ndash\; Free Appetizer up to $10. Not valid on Sundays.</span></span></li>\n	<li><span style="font-size:14px\;"><span style="font-family:arial\;">Carrabba&rsquo\;s Italian Grill (Chapel Hill Road) &ndash\; Free Appetizer up to $10.</span></span></li>\n	<li><span style="font-size:14px\;"><span style="font-family:arial\;">The Farmer&rsquo\;s Table (Hwy 5) &ndash\; Free Slice of Cake.</span></span></li>\n	<li><span style="font-size:14px\;"><span style="font-family:arial\;">Gabe&rsquo\;s Downtown (Downtown Douglasville) &ndash\; Free Appetizer up to $10.</span></span></li>\n	<li><span style="font-size:14px\;"><span style="font-family:arial\;">Hudson&rsquo\;s Hickory House (Downtown Douglasville) &ndash\; Free Appetizer up to $5.</span></span></li>\n	<li><span style="font-size:14px\;"><span style="font-family:arial\;">Shane&rsquo\;s Rib Shack (Chapel Hill Road) &ndash\; BOGO &frac12\; Off Pork Plate.</span></span></li>\n	<li><span style="font-size:14px\;"><span style="font-family:arial\;">Texas Roadhouse (Chapel Hill Road) &ndash\; Free Appetizer up to $10.</span></span></li>\n	<li><span style="font-size:14px\;"><span style="font-family:arial\;">The Otherside (Downtown Villa Rica) &ndash\; Free Appetizer up to $10.</span></span></li>\n	<li><span style="font-size:14px\;"><span style="font-family:arial\;">Williamson Brothers BBQ (Concourse Parkway/Douglasville) &ndash\; </span></span><span style="font-family:arial\;"><span style="font-size:11.0pt\;">Free Pork or Chicken Sandwich with Purchase of a Platter&nbsp\;</span></span><span style="font-size:14px\;"><span style="font-family:arial\;"> &ndash\; valid on curbside and to go.</span></span></li>\n</ul>\n
LOCATION:
UID:e.184.11409
SEQUENCE:3
DTSTAMP:20260425T225527Z
URL:https://business.douglascountygeorgia.com/events/details/douglas-county-dining-card-program-11409
END:VEVENT

END:VCALENDAR
