BEGIN:VCALENDAR
VERSION:2.0
PRODID:-//ChamberMaster//Event Calendar 2.0//EN
METHOD:PUBLISH
X-PUBLISHED-TTL:P3D
REFRESH-INTERVAL:P3D
CALSCALE:GREGORIAN
BEGIN:VEVENT
DTSTART:20260225T230000Z
DTEND:20260226T000000Z
X-MICROSOFT-CDO-ALLDAYEVENT:FALSE
SUMMARY:Douglasville State of the City & Business After Hours
DESCRIPTION:Mayor Rochelle Robinson will reflect on a year of  momentum   sharing how Douglasville is growing with purpose\, investing in what matters\, and shaping the future of our community.\n\n \n\nFrom downtown transformation to neighborhood investment\, this is a moment to celebrate where we are and how we are moving our community forward together.\n\n \n\nThe event is free and open to the public\, but registration is required to secure your seat.\n\n\n\n\n\n2026 State of the City Sponsorship Opportunities\n\nNaming Sponsor - $5\,000\n\nIncludes naming rights to the event\, table of 10\, opportunity to provide sponsor remarks\, provide swag on tables\, exclusive logo placement on all marketing collateral (digital and print) and on website.\n\nEvent Sponsor - $1\,000\n\nIncludes unlimited attendees\, opportunity to set up a sponsor table the event\, opportunity to provide swag to attendees\, company name on all marketing collateral (digital and print) and logo on website.
X-ALT-DESC;FMTTYPE=text/html:<p style="box-sizing: inherit\; margin-top: 0px\; margin-right: 0px\; margin-bottom: var(--spacing-small)\; margin-left: 0px\; padding: 0px\; border: 0px\; font-size: 15px\; vertical-align: baseline\; color: rgb(50\, 51\, 56)\; font-family: Figtree\, Roboto\, &quot\;Noto Sans Hebrew&quot\;\, &quot\;Noto Kufi Arabic&quot\;\, &quot\;Noto Sans JP&quot\;\, sans-serif\; outline: none !important\;"><span style="font-size:16px\;">Mayor Rochelle Robinson will reflect on a year of &nbsp\;momentum &mdash\; sharing how Douglasville is growing with purpose\, investing in what matters\, and shaping the future of our community.<br />\n&nbsp\;<br />\nFrom downtown transformation to neighborhood investment\, this is a moment to celebrate where we are and how we are moving our community forward together.<br />\n&nbsp\;<br />\nThe event is free and open to the public\, but registration is required to secure your seat.<br />\n<br />\n<br />\n<span data-teams="true"><strong>2026&nbsp\;State of the City Sponsorship Opportunities</strong></span></span></p>\n\n<p><span style="font-size:16px\;"><span data-teams="true"><strong>Naming Sponsor</strong> - $5\,000</span></span></p>\n\n<p><span style="font-size:16px\;"><span data-teams="true">Includes naming rights to the event\, table of 10\, opportunity to provide sponsor remarks\, provide swag on tables\, exclusive logo placement on all marketing collateral (digital and print) and on website.</span></span></p>\n\n<p><span style="font-size:16px\;"><span data-teams="true"><strong>Event Sponsor</strong> - $1\,000</span></span></p>\n\n<p><span style="font-size:16px\;"><span data-teams="true">Includes unlimited attendees\, opportunity to set up a sponsor table the event\, opportunity to provide swag to attendees\, company name on all marketing collateral (digital and print) and logo on website.</span></span></p>\n
LOCATION:Douglasville Conference Center
UID:e.184.16933
SEQUENCE:3
DTSTAMP:20260422T135954Z
URL:https://business.douglascountygeorgia.com/events/details/douglasville-state-of-the-city-16933
END:VEVENT

END:VCALENDAR
