BEGIN:VCALENDAR
VERSION:2.0
PRODID:-//ChamberMaster//Event Calendar 2.0//EN
METHOD:PUBLISH
X-PUBLISHED-TTL:P3D
REFRESH-INTERVAL:P3D
CALSCALE:GREGORIAN
BEGIN:VEVENT
DTSTART:20260108T173000Z
DTEND:20260108T183000Z
X-MICROSOFT-CDO-ALLDAYEVENT:FALSE
SUMMARY:Engage to Thrive Series: Maximizing Your DCC Investment!
DESCRIPTION:Engage to Thrive Series: Maximizing Your DCC Investment! \n\n\n\nJoin us for our next Engage to Thrive Series event - Maximizing Your DCC Investment! This is your official welcome to the place where partnerships and businesses THRIVE! Join your DCC team and learn about all of the ways you can engage through your Chamber Investment - there is something for everyone! Attendees will also learn how to best leverage Investor Benefits\, connect with other businesses and explore possibilities to grow your business (and yourself) in Douglas.
X-ALT-DESC;FMTTYPE=text/html:<span style="font-size:16px\;"><span style="font-family:arial\;"><span style="color: rgb(51\, 51\, 51)\;"><strong>Engage to Thrive Series: Maximizing Your DCC Investment!&#8203\;</strong></span><br style="color: rgb(51\, 51\, 51)\; font-family: sans-serif\, Arial\, Verdana\, &quot\;Trebuchet MS&quot\;\; font-size: 13px\;" />\n<br style="color: rgb(51\, 51\, 51)\; font-family: sans-serif\, Arial\, Verdana\, &quot\;Trebuchet MS&quot\;\; font-size: 13px\;" />\n<span style="color: rgb(36\, 36\, 36)\;">Join us for our next Engage to Thrive Series event - Maximizing Your DCC Investment! This is your official welcome to the place where partnerships and businesses THRIVE! Join your DCC team and learn about all of the ways you can engage through your Chamber Investment - there is something for everyone! Attendees will also learn how to best leverage Investor Benefits\, connect with other businesses and explore possibilities to grow your business (and yourself) in Douglas.</span></span></span>
LOCATION:Douglas County Chamber Georgia Power Room
UID:e.184.17221
SEQUENCE:3
DTSTAMP:20260422T153806Z
URL:https://business.douglascountygeorgia.com/events/details/engage-to-thrive-series-maximizing-your-dcc-investment-17221
END:VEVENT

END:VCALENDAR
