BEGIN:VCALENDAR
VERSION:2.0
PRODID:-//ChamberMaster//Event Calendar 2.0//EN
METHOD:PUBLISH
X-PUBLISHED-TTL:P3D
REFRESH-INTERVAL:P3D
CALSCALE:GREGORIAN
BEGIN:VEVENT
DTSTART:20200312T160000Z
DTEND:20200312T170000Z
X-MICROSOFT-CDO-ALLDAYEVENT:FALSE
SUMMARY:Entrepreneur Bootcamp
DESCRIPTION:This course aims to educate small business owners and entrepreneurs on the basic and advanced concepts of how to start a business in Douglasville and how to remain successful! Classes  are March 12th\, July 9th\, September 10th\, and November 12th. All classes start at Noon and end at 1pm with lunch provided.
X-ALT-DESC;FMTTYPE=text/html:<span style="color:#000000\;"><span style="font-size:12px\;"><span style="font-family: &quot\;Nunito Sans&quot\;\, sans-serif\;">This course aims to educate small business owners&nbsp\;and entrepreneurs on the basic and advanced concepts of how to start a business in Douglasville and how to remain successful! Classes&nbsp\; are March 12th\, July 9th\, September 10th\, and November 12th. All classes start at Noon and end at 1pm with lunch provided.&nbsp\;</span></span></span>
LOCATION:
UID:e.184.11304
SEQUENCE:3
DTSTAMP:20260426T001626Z
URL:https://business.douglascountygeorgia.com/events/details/entrepreneur-bootcamp-11304
END:VEVENT

END:VCALENDAR
