BEGIN:VCALENDAR
VERSION:2.0
PRODID:-//ChamberMaster//Event Calendar 2.0//EN
METHOD:PUBLISH
X-PUBLISHED-TTL:P3D
REFRESH-INTERVAL:P3D
CALSCALE:GREGORIAN
BEGIN:VEVENT
DTSTART:20200505T140000Z
DTEND:20200505T150000Z
X-MICROSOFT-CDO-ALLDAYEVENT:FALSE
SUMMARY:Fail-Proof Strategies to Enjoy a More Proficient Day
DESCRIPTION:Train a few minutes with Dr. Deborah Johnson-Blake on how to have more efficient days.\n\n\n\nWhat to expect on Training Day Tuesday:\n\n\n\nThe only place where success comes before work is in the dictionary (Vidal Sassoon)\n\n\n\nWoman U's Train Day is every Tuesday with industry experts. With the new day comes new strength and new thoughts...Everything you'ver ever wanted is on the other side of this pandemic.\n\n\n\nLearn what you need when it's presented to you:\n\n	Live instructor\n	Weekly & Interactive\n	1 hour\n	End of the week check-up
X-ALT-DESC;FMTTYPE=text/html:Train a few minutes with Dr. Deborah Johnson-Blake on how to have more efficient days.<br />\n<br />\nWhat to expect on Training Day Tuesday:<br />\n<br />\nThe only place where success comes before work is in the dictionary (Vidal Sassoon)<br />\n<br />\nWoman U&#39\;s Train Day is every Tuesday with industry experts. With the new day comes new strength and new thoughts...Everything you&#39\;ver ever wanted is on the other side of this pandemic.<br />\n<br />\nLearn what you need when it&#39\;s presented to you:\n<ul>\n	<li>Live instructor</li>\n	<li>Weekly &amp\; Interactive</li>\n	<li>1 hour</li>\n	<li>End of the week check-up</li>\n</ul>\n\n<div>&nbsp\;</div>\n\n<div>&nbsp\;</div>\n
LOCATION:Webinar via the Zoom platform
UID:e.184.11420
SEQUENCE:3
DTSTAMP:20260425T211918Z
URL:https://business.douglascountygeorgia.com/events/details/fail-proof-strategies-to-enjoy-a-more-proficient-day-11420
END:VEVENT

END:VCALENDAR
