BEGIN:VCALENDAR
VERSION:2.0
PRODID:-//ChamberMaster//Event Calendar 2.0//EN
METHOD:PUBLISH
X-PUBLISHED-TTL:P3D
REFRESH-INTERVAL:P3D
CALSCALE:GREGORIAN
BEGIN:VEVENT
DTSTART:20200328T143000Z
DTEND:20200328T153000Z
X-MICROSOFT-CDO-ALLDAYEVENT:FALSE
SUMMARY:Family ARTSventures! presents Ah Surely Irish Music and Dance
DESCRIPTION:The Cultural Arts Center of Douglasville/Douglas County presents Ah Surely Irish Music and Dance performing "From Ireland to America" at the Douglas County Library on March 28th at 10:30 am.
X-ALT-DESC;FMTTYPE=text/html:The Cultural Arts Center of Douglasville/Douglas County presents Ah Surely Irish Music and Dance performing &quot\;From Ireland to America&quot\; at the Douglas County Library on March 28th at 10:30 am.
LOCATION:Douglas County Library 6810 Selman Dr.\, Douglasville\, Ga.
UID:e.184.11234
SEQUENCE:3
DTSTAMP:20260426T003311Z
URL:https://business.douglascountygeorgia.com/events/details/family-artsventures-presents-ah-surely-irish-music-and-dance-11234
END:VEVENT

END:VCALENDAR
