BEGIN:VCALENDAR
VERSION:2.0
PRODID:-//ChamberMaster//Event Calendar 2.0//EN
METHOD:PUBLISH
X-PUBLISHED-TTL:P3D
REFRESH-INTERVAL:P3D
CALSCALE:GREGORIAN
BEGIN:VEVENT
DTSTART:20200716T220000Z
DTEND:20200716T233000Z
X-MICROSOFT-CDO-ALLDAYEVENT:FALSE
SUMMARY:Fueling Your Child's Brain for Success Through Positive Social and Emotional Connections: A Virtual Parent Cafe'
DESCRIPTION:In this discussion\, our presenter will share how current research in child development shows how our relationships with children fuel brain development.  Parents and caregivers participating will have time to reflect with one another on when the children in their lives have shown positive social engagement.  In addition\, participants will reflect and share what interactive strategies create opportunities for these moments.\n\n\n\nThis event is hosted by the Douglas County Task Force Child Advocacy Center in partnership with Baby Steps Recovery Program\, Douglas County Juvenile Court\, and the Administrative Office of the Courts.
X-ALT-DESC;FMTTYPE=text/html:<span style="font-size:14px"><span style="font-family:arial\,helvetica\,sans-serif">In this discussion\, our presenter will share how current research in child development shows how our relationships with children fuel brain development.&nbsp\; Parents and caregivers participating will have time to reflect with one another on when the children in their lives have shown positive social engagement.&nbsp\; In addition\, participants will reflect and share what interactive strategies create opportunities for these moments.<br />\n<br />\nThis event is hosted by the Douglas County Task Force Child Advocacy Center in partnership with Baby Steps Recovery Program\, Douglas County Juvenile Court\, and the Administrative Office of the Courts.</span></span>
LOCATION:https://www.eventbrite.com/x/fueling-your-childs-brain-for-success-tickets-108755701230
UID:e.184.11488
SEQUENCE:3
DTSTAMP:20260426T003511Z
URL:https://business.douglascountygeorgia.com/events/details/fueling-your-child-s-brain-for-success-through-positive-social-and-emotional-connections-a-virtual-parent-cafe-11488
END:VEVENT

END:VCALENDAR
