BEGIN:VCALENDAR
VERSION:2.0
PRODID:-//ChamberMaster//Event Calendar 2.0//EN
METHOD:PUBLISH
X-PUBLISHED-TTL:P3D
REFRESH-INTERVAL:P3D
CALSCALE:GREGORIAN
BEGIN:VEVENT
DTSTART:20200325T140000Z
DTEND:20200325T150000Z
X-MICROSOFT-CDO-ALLDAYEVENT:FALSE
SUMMARY:Georgia Commute Options & Incentives - Including Teleworking Webinar
DESCRIPTION:Reliable transportation is a key workforce issue. Georgia Commute Options is a free service that can help you explore\, promote\, organize and incentivize carpools\, transit and telework for your employees.  Join us as we hear from Carolyn Baar\, your GCO worksite advisor for Douglas County.  She will discuss ways employees can participate in clean commuting options\, incentives they can earn\, and resources for employers and employees as we navigate a new work-from-home era.\n\n\n\nBrought to you by GoToWebinar \n\nWebinars Made Easy
X-ALT-DESC;FMTTYPE=text/html:Reliable transportation is a key workforce issue. Georgia Commute Options is a free service that can help you explore\, promote\, organize and incentivize carpools\, transit and telework for your employees.&nbsp\; Join us as we hear from Carolyn Baar\, your GCO worksite advisor for Douglas County.&nbsp\; She will discuss ways employees can participate in clean commuting options\, incentives they can earn\, and resources for employers and employees as we navigate a new work-from-home era.<br />\n<br />\nBrought to you by GoToWebinar&reg\;<br />\nWebinars Made Easy&reg\;
LOCATION:Your computer or smartphone
UID:e.184.11351
SEQUENCE:3
DTSTAMP:20260426T002212Z
URL:https://business.douglascountygeorgia.com/events/details/georgia-commute-options-incentives-including-teleworking-webinar-11351
END:VEVENT

END:VCALENDAR
