BEGIN:VCALENDAR
VERSION:2.0
PRODID:-//ChamberMaster//Event Calendar 2.0//EN
METHOD:PUBLISH
X-PUBLISHED-TTL:P3D
REFRESH-INTERVAL:P3D
CALSCALE:GREGORIAN
BEGIN:VEVENT
DTSTART:20260820T130000Z
DTEND:20260820T150000Z
X-MICROSOFT-CDO-ALLDAYEVENT:FALSE
SUMMARY:Georgia Hispanic Chamber of Commerce Mixer
DESCRIPTION:
X-ALT-DESC;FMTTYPE=text/html:
LOCATION:Douglas County Chamber
UID:e.184.17294
SEQUENCE:3
DTSTAMP:20260422T050140Z
URL:https://business.douglascountygeorgia.com/events/details/georgia-hispanic-chamber-of-commerce-mixer-17294
END:VEVENT

END:VCALENDAR
