BEGIN:VCALENDAR
VERSION:2.0
PRODID:-//ChamberMaster//Event Calendar 2.0//EN
METHOD:PUBLISH
X-PUBLISHED-TTL:P3D
REFRESH-INTERVAL:P3D
CALSCALE:GREGORIAN
BEGIN:VEVENT
DTSTART:20260930T130000Z
DTEND:20260930T143000Z
X-MICROSOFT-CDO-ALLDAYEVENT:FALSE
SUMMARY:Georgia Hispanic Chamber of Commerce Mixer
DESCRIPTION:Business Networking Group\n\n\n\nLearn more at https://www.ghcc.org/
X-ALT-DESC;FMTTYPE=text/html:Business Networking Group<br />\n<br />\nLearn more at<strong>&nbsp\;</strong><a href="https://www.ghcc.org/">https://www.ghcc.org/</a>
LOCATION:Douglas County Chamber
UID:e.184.20801
SEQUENCE:3
DTSTAMP:20260422T050007Z
URL:https://business.douglascountygeorgia.com/events/details/georgia-hispanic-chamber-of-commerce-mixer-20801
END:VEVENT

END:VCALENDAR
