BEGIN:VCALENDAR
VERSION:2.0
PRODID:-//ChamberMaster//Event Calendar 2.0//EN
METHOD:PUBLISH
X-PUBLISHED-TTL:P3D
REFRESH-INTERVAL:P3D
CALSCALE:GREGORIAN
BEGIN:VEVENT
DTSTART:20260423T130000Z
DTEND:20260423T143000Z
X-MICROSOFT-CDO-ALLDAYEVENT:FALSE
SUMMARY:Georgia Hispanic Chamber of Commerce Networking Event
DESCRIPTION:Business Networking Group\n\n\n\nRegister here\n\n\n\nLearn more at https://www.ghcc.org/
X-ALT-DESC;FMTTYPE=text/html:Business Networking Group<br />\n<br />\n<strong><a href="https://www.chamberorganizer.com/members/evr/reg_event.php?evid=99452149&amp\;orgcode=GHCC">Register here</a></strong><br />\n<br />\nLearn more at&nbsp\;<a href="https://www.ghcc.org/">https://www.ghcc.org/</a>
LOCATION:Douglas County Georgia Power Room
UID:e.184.20800
SEQUENCE:3
DTSTAMP:20260420T201234Z
URL:https://business.douglascountygeorgia.com/events/details/georgia-hispanic-chamber-of-commerce-networking-event-04-23-2026-20800
END:VEVENT

END:VCALENDAR
