BEGIN:VCALENDAR
VERSION:2.0
PRODID:-//ChamberMaster//Event Calendar 2.0//EN
METHOD:PUBLISH
X-PUBLISHED-TTL:P3D
REFRESH-INTERVAL:P3D
CALSCALE:GREGORIAN
BEGIN:VEVENT
DTSTART:20241205T143000Z
DTEND:20241205T160000Z
X-MICROSOFT-CDO-ALLDAYEVENT:FALSE
SUMMARY:Government Affairs Council Meeting
DESCRIPTION:Government Affairs Council Meeting
X-ALT-DESC;FMTTYPE=text/html:<p><span style="font-size:20px\;"><strong>Government Affairs Council Meeting</strong></span><br />\n<br />\n&nbsp\;</p>\n
LOCATION:Douglas County Chamber
UID:e.184.15741
SEQUENCE:3
DTSTAMP:20260423T021150Z
URL:https://business.douglascountygeorgia.com/events/details/government-affairs-council-meeting-15741
END:VEVENT

END:VCALENDAR
