BEGIN:VCALENDAR
VERSION:2.0
PRODID:-//ChamberMaster//Event Calendar 2.0//EN
METHOD:PUBLISH
X-PUBLISHED-TTL:P3D
REFRESH-INTERVAL:P3D
CALSCALE:GREGORIAN
BEGIN:VEVENT
DTSTART:20261028T140000Z
DTEND:20261028T153000Z
X-MICROSOFT-CDO-ALLDAYEVENT:FALSE
SUMMARY:Government Affairs Council Meeting
DESCRIPTION:Government Affairs Council Meeting
X-ALT-DESC;FMTTYPE=text/html:<p><span style="font-size:14px\;"><strong>Government Affairs Council Meeting</strong></span><br />\n&nbsp\;</p>\n
LOCATION:
UID:e.184.17271
SEQUENCE:3
DTSTAMP:20260422T012322Z
URL:https://business.douglascountygeorgia.com/events/details/government-affairs-council-meeting-17271
END:VEVENT

END:VCALENDAR
