BEGIN:VCALENDAR
VERSION:2.0
PRODID:-//ChamberMaster//Event Calendar 2.0//EN
METHOD:PUBLISH
X-PUBLISHED-TTL:P3D
REFRESH-INTERVAL:P3D
CALSCALE:GREGORIAN
BEGIN:VEVENT
DTSTART:20251216T210000Z
DTEND:20251216T220000Z
X-MICROSOFT-CDO-ALLDAYEVENT:FALSE
SUMMARY:Greece Island Hopper Information Session
DESCRIPTION:Greece Island Hopper   Presented by Collette\n\n\n\nThe Douglas County Chamber will be taking a group travel trip on October 7th-17th\, 2026!\n\n\n\nJoin us for an exclusive presentation on December 16th from 4 5 PM with our partners at Collette Vacations and discover the timeless beauty of Greece! A Collette representative will walk you through the exciting itinerary\, travel details\, and what to expect on this unforgettable journey.\n\n\n\nLearn more about must-see destinations including Athens\, Mykonos\, and Santorini   from ancient ruins to whitewashed villages and breathtaking island views.\n\n\n\nDon't miss out   register now to save your spot!\n\n\n\nWe look forward to seeing you there!
X-ALT-DESC;FMTTYPE=text/html:<div style="border: 0px\; font-variant-numeric: inherit\; font-variant-east-asian: inherit\; font-variant-alternates: inherit\; font-variant-position: inherit\; font-variant-emoji: inherit\; font-stretch: inherit\; font-size: 15px\; line-height: inherit\; font-family: &quot\;Segoe UI&quot\;\, &quot\;Segoe UI Web (West European)&quot\;\, -apple-system\, BlinkMacSystemFont\, Roboto\, &quot\;Helvetica Neue&quot\;\, sans-serif\; font-optical-sizing: inherit\; font-size-adjust: inherit\; font-kerning: inherit\; font-feature-settings: inherit\; font-variation-settings: inherit\; margin: 12pt 0px\; padding: 0px\; vertical-align: baseline\; color: rgb(36\, 36\, 36)\;">\n<p class="x_MsoNormal" style="margin: 0in\; font-size: 12pt\; font-family: Aptos\, sans-serif\;"><span style="font-size:16px\;"><strong><span data-olk-copy-source="MessageBody" style="border: 0px\; font-style: inherit\; font-variant: inherit\; font-weight: inherit\; font-stretch: inherit\; line-height: inherit\; font-family: inherit\; font-optical-sizing: inherit\; font-size-adjust: inherit\; font-kerning: inherit\; font-feature-settings: inherit\; font-variation-settings: inherit\; margin: 0px\; padding: 0px\; vertical-align: baseline\;">Greece Island Hopper &ndash\; Presented by Collette</span></strong></span></p>\n</div>\n\n<div style="border: 0px\; font-variant-numeric: inherit\; font-variant-east-asian: inherit\; font-variant-alternates: inherit\; font-variant-position: inherit\; font-variant-emoji: inherit\; font-stretch: inherit\; font-size: 15px\; line-height: inherit\; font-family: &quot\;Segoe UI&quot\;\, &quot\;Segoe UI Web (West European)&quot\;\, -apple-system\, BlinkMacSystemFont\, Roboto\, &quot\;Helvetica Neue&quot\;\, sans-serif\; font-optical-sizing: inherit\; font-size-adjust: inherit\; font-kerning: inherit\; font-feature-settings: inherit\; font-variation-settings: inherit\; margin: 12pt 0px\; padding: 0px\; vertical-align: baseline\; color: rgb(36\, 36\, 36)\;">\n<p class="x_MsoNormal" style="margin: 0in\; font-size: 12pt\; font-family: Aptos\, sans-serif\;">The Douglas County Chamber will be taking a group travel trip on October 7th-17th\, 2026!<br />\n<br />\nJoin us for an exclusive presentation on <strong>December 16th from 4&ndash\;5 PM</strong> with our partners at Collette Vacations and discover the timeless beauty of Greece! A Collette representative will walk you through the exciting itinerary\, travel details\, and what to expect on this unforgettable journey.<br />\n<br />\nLearn more about must-see destinations including <strong>Athens\, Mykonos\, and Santorini</strong> &mdash\; from ancient ruins to whitewashed villages and breathtaking island views.</p>\n</div>\n\n<div style="border: 0px\; font-variant-numeric: inherit\; font-variant-east-asian: inherit\; font-variant-alternates: inherit\; font-variant-position: inherit\; font-variant-emoji: inherit\; font-stretch: inherit\; font-size: 15px\; line-height: inherit\; font-family: &quot\;Segoe UI&quot\;\, &quot\;Segoe UI Web (West European)&quot\;\, -apple-system\, BlinkMacSystemFont\, Roboto\, &quot\;Helvetica Neue&quot\;\, sans-serif\; font-optical-sizing: inherit\; font-size-adjust: inherit\; font-kerning: inherit\; font-feature-settings: inherit\; font-variation-settings: inherit\; margin: 12pt 0px\; padding: 0px\; vertical-align: baseline\; color: rgb(36\, 36\, 36)\;">\n<p class="x_MsoNormal" style="margin: 0in\; font-size: 12pt\; font-family: Aptos\, sans-serif\;"><span style="font-size:16px\;"><span style="border: 0px\; font-style: inherit\; font-variant: inherit\; font-weight: inherit\; font-stretch: inherit\; line-height: inherit\; font-family: inherit\; font-optical-sizing: inherit\; font-size-adjust: inherit\; font-kerning: inherit\; font-feature-settings: inherit\; font-variation-settings: inherit\; margin: 0px\; padding: 0px\; vertical-align: baseline\;">Don&rsquo\;t miss out &ndash\; register now to save your spot!</span></span></p>\n</div>\n\n<div style="border: 0px\; font-variant-numeric: inherit\; font-variant-east-asian: inherit\; font-variant-alternates: inherit\; font-variant-position: inherit\; font-variant-emoji: inherit\; font-stretch: inherit\; font-size: 15px\; line-height: inherit\; font-family: &quot\;Segoe UI&quot\;\, &quot\;Segoe UI Web (West European)&quot\;\, -apple-system\, BlinkMacSystemFont\, Roboto\, &quot\;Helvetica Neue&quot\;\, sans-serif\; font-optical-sizing: inherit\; font-size-adjust: inherit\; font-kerning: inherit\; font-feature-settings: inherit\; font-variation-settings: inherit\; margin: 12pt 0px\; padding: 0px\; vertical-align: baseline\; color: rgb(36\, 36\, 36)\;">\n<p class="x_MsoNormal" style="margin: 0in\; font-size: 12pt\; font-family: Aptos\, sans-serif\;"><span style="font-size:16px\;"><span style="border: 0px\; font-style: inherit\; font-variant: inherit\; font-weight: inherit\; font-stretch: inherit\; line-height: inherit\; font-family: inherit\; font-optical-sizing: inherit\; font-size-adjust: inherit\; font-kerning: inherit\; font-feature-settings: inherit\; font-variation-settings: inherit\; margin: 0px\; padding: 0px\; vertical-align: baseline\;">We look forward to seeing you there!</span></span></p>\n</div>\n
LOCATION:Douglas County Chamber Large Conference Room 6658 Church Street Douglasville\, GA 30134
UID:e.184.16863
SEQUENCE:3
DTSTAMP:20260422T171304Z
URL:https://business.douglascountygeorgia.com/events/details/greece-island-hopper-information-session-16863
END:VEVENT

END:VCALENDAR
