BEGIN:VCALENDAR
VERSION:2.0
PRODID:-//ChamberMaster//Event Calendar 2.0//EN
METHOD:PUBLISH
X-PUBLISHED-TTL:P3D
REFRESH-INTERVAL:P3D
CALSCALE:GREGORIAN
BEGIN:VEVENT
DTSTART:20250808T180000Z
DTEND:20250808T183000Z
X-MICROSOFT-CDO-ALLDAYEVENT:FALSE
SUMMARY:Ground Breaking for The Reserve on Spring Taproom and Wine Bar
DESCRIPTION:Douglasville City Councilman Terry Miller is constructing The Reserve on Spring Taproom and Wine Bar and will have a groundbreaking this Friday\, August 8th!! Come on out and help  celebrate this amazing milestone.
X-ALT-DESC;FMTTYPE=text/html:<div class="x_elementToProof" data-olk-copy-source="MessageBody" style="border: 0px\; font-variant-numeric: inherit\; font-variant-east-asian: inherit\; font-variant-alternates: inherit\; font-variant-position: inherit\; font-variant-emoji: inherit\; font-stretch: inherit\; font-size: 12pt\; line-height: inherit\; font-family: Aptos\, Aptos_EmbeddedFont\, Aptos_MSFontService\, Calibri\, Helvetica\, sans-serif\; font-optical-sizing: inherit\; font-size-adjust: inherit\; font-kerning: inherit\; font-feature-settings: inherit\; font-variation-settings: inherit\; margin: 1em 0px\; padding: 0px\; vertical-align: baseline\; color: rgb(0\, 0\, 0)\;">Douglasville City Councilman Terry Miller is constructing The Reserve on Spring Taproom and Wine Bar and will have a groundbreaking this Friday\, August 8th!! Come on out and help&nbsp\; celebrate this amazing milestone.</div>\n
LOCATION:6732 Spring Street Douglasville\, GA
UID:e.184.16774
SEQUENCE:3
DTSTAMP:20260424T105324Z
URL:https://business.douglascountygeorgia.com/events/details/ground-breaking-for-the-reserve-on-spring-taproom-and-wine-bar-16774
END:VEVENT

END:VCALENDAR
